Workbook

Sheet 수서
A1: 2025년도 1차추경 시설이용료 승인요청 내역 (시립수서청소년센터)
A2: 작성시 유의사항 < 기존 시설이용료가 있는 경우 > 1. 기존 시설이용료에서 증감 없음 -> 추경 시설이용료에 기존 금액 그대로 입력, 변경사유 미입력 2. 기존 시설이용료에서 증감 있음 -> 추경 시설이용료에 증감 반영된 금액 입력, 변경사유 입력 (프로그램 폐지된 경우 추경 시설이용료에 0원 적고 변경사유에 프로그램 폐지라고 적으시면 됩니다 / 증액의 경우 증액사유, 감액의 경우 감액사유 작성) < 기존 시설이용료가 없는 경우 > 1. 제일 끝 연번 이후로 신규 작성할 것 (기존 시설이용료는 0으로 적시) * 조례영역, 조례구분, 조례대상, 조례횟수, 조례상한가(원)은 두번째셀 "조례와의 비교"에서 그대로 복사, 붙여넣기 하세요. N열과 O열이 일치해야 하고, 조례상한가 초과여부에 X로 표시되어야 합니다. (주말,공휴일 할증의 경우 다름 N열과 O열 다름. 이 경우 비고란에 적시) * 유사시설준용의 경우 비고란에 유사시설 이용료 반드시 적어주세요.
A4: 연번 | B4: 승인요청 시설이용료 | J4: 조례와의 비교 | O4: 검토사항 | Q4: 비고
B5: 사업구분 | C5: 프로그램명 | D5: 대상 | E5: 기준 | F5: 기존 시설이용료(원) | G5: 추경 시설이용료(원) | H5: 증감률 | I5: 변경사유 | J5: 조례영역 | K5: 조례구분 | L5: 조례대상 | M5: 조례횟수 | N5: 조례상한가(원) | O5: 조례상한가 확인 | P5: 조례상한가 초과여부
A6: 1 | B6: 교육문화사업 | C6: 생활외국어 | D6: 초·중·고생 | E6: 주1회 | F6: 33000 | G6: 33000 | H6: =(G6-F6)/F6 -> 0 | J6: 2. 프로그램 영역별 강습료 | K6: 외국어 | L6: 초·중·고생, 어린이 | M6: 주1회 | N6: 33000 | O6: =SUMIFS('조례와의 비교'!$F$3:$F$188,'조례와의 비교'!$B$3:$B$188,수서!J6,'조례와의 비교'!$C$3:$C$188,수서!K6,'조례와의 비교'!$D$3:$D$188,수서!L6,'조례와의 비교'!$E$3:$E$188,수서!M6) -> 33000 | P6: =IF(G6>N6,"O","X") -> X | Q6: 주1회 1시간
A7: 2 | B7: 교육문화사업 | C7: 생활외국어 | D7: 대학생, 성인 | E7: 주1회 | F7: 39000 | G7: 39000 | H7: =(G7-F7)/F7 -> 0 | J7: 2. 프로그램 영역별 강습료 | K7: 외국어 | L7: 대학생, 성인 | M7: 주1회 | N7: 39000 | O7: =SUMIFS('조례와의 비교'!$F$3:$F$188,'조례와의 비교'!$B$3:$B$188,수서!J7,'조례와의 비교'!$C$3:$C$188,수서!K7,'조례와의 비교'!$D$3:$D$188,수서!L7,'조례와의 비교'!$E$3:$E$188,수서!M7) -> 39000 | P7: =IF(G7>N7,"O","X") -> X | Q7: 주1회 1시간
A8: 3 | B8: 교육문화사업 | C8: 글쓰기논술 | D8: 초·중·고생 | E8: 주1회 | F8: 33000 | G8: 33000 | H8: =(G8-F8)/F8 -> 0 | J8: 2. 프로그램 영역별 강습료 | K8: 외국어 | L8: 초·중·고생, 어린이 | M8: 주1회 | N8: 39000 | O8: =SUMIFS('조례와의 비교'!$F$3:$F$188,'조례와의 비교'!$B$3:$B$188,수서!J8,'조례와의 비교'!$C$3:$C$188,수서!K8,'조례와의 비교'!$D$3:$D$188,수서!L8,'조례와의 비교'!$E$3:$E$188,수서!M8) -> 33000 | P8: =IF(G8>N8,"O","X") -> X | Q8: 주1회 1시간
A9: 4 | B9: 교육문화사업 | C9: 글쓰기논술 | D9: 초·중·고생 | E9: 주1회 | F9: 46000 | G9: 46000 | H9: =(G9-F9)/F9 -> 0 | J9: 2. 프로그램 영역별 강습료 | K9: 외국어 | L9: 초·중·고생, 어린이 | M9: 주1회 | N9: 66000 | O9: =SUMIFS('조례와의 비교'!$F$3:$F$188,'조례와의 비교'!$B$3:$B$188,수서!J9,'조례와의 비교'!$C$3:$C$188,수서!K9,'조례와의 비교'!$D$3:$D$188,수서!L9,'조례와의 비교'!$E$3:$E$188,수서!M9) -> 33000 | P9: =IF(G9>N9,"O","X") -> X | Q9: 주1회 2시간
A10: 5 | B10: 교육문화사업 | C10: 글쓰기논술 | D10: 초·중·고생 | E10: 주1회 | F10: 48000 | G10: 48000 | H10: =(G10-F10)/F10 -> 0 | J10: 2. 프로그램 영역별 강습료 | K10: 외국어 | L10: 초·중·고생, 어린이 | M10: 주1회 | N10: 66000 | O10: =SUMIFS('조례와의 비교'!$F$3:$F$188,'조례와의 비교'!$B$3:$B$188,수서!J10,'조례와의 비교'!$C$3:$C$188,수서!K10,'조례와의 비교'!$D$3:$D$188,수서!L10,'조례와의 비교'!$E$3:$E$188,수서!M10) -> 33000 | P10: =IF(G10>N10,"O","X") -> X | Q10: 주1회 2시간
A11: 6 | B11: 교육문화사업 | C11: 서당&경필쓰기 | D11: 초·중·고생 | E11: 주1회 | F11: 30000 | G11: 30000 | H11: =(G11-F11)/F11 -> 0 | J11: 2. 프로그램 영역별 강습료 | K11: 외국어 | L11: 초·중·고생, 어린이 | M11: 주1회 | N11: 33000 | O11: =SUMIFS('조례와의 비교'!$F$3:$F$188,'조례와의 비교'!$B$3:$B$188,수서!J11,'조례와의 비교'!$C$3:$C$188,수서!K11,'조례와의 비교'!$D$3:$D$188,수서!L11,'조례와의 비교'!$E$3:$E$188,수서!M11) -> 33000 | P11: =IF(G11>N11,"O","X") -> X | Q11: 주1회 1시간
A12: 7 | B12: 교육문화사업 | C12: 주산암산 | D12: 초·중·고생 | E12: 주1회 | F12: 30000 | G12: 30000 | H12: =(G12-F12)/F12 -> 0 | J12: 2. 프로그램 영역별 강습료 | K12: 기타 | L12: 초·중·고생, 어린이 | M12: 주1회 | N12: 유사시설준용 | O12: =SUMIFS('조례와의 비교'!$F$3:$F$188,'조례와의 비교'!$B$3:$B$188,수서!J12,'조례와의 비교'!$C$3:$C$188,수서!K12,'조례와의 비교'!$D$3:$D$188,수서!L12,'조례와의 비교'!$E$3:$E$188,수서!M12) -> 0 | P12: =IF(G12>N12,"O","X") -> X | Q12: 주1회 1시간 인근 1시간 역삼청소년센터30,000원, 목동청소년센터 33.,000원
A13: 8 | B13: 교육문화사업 | C13: 수학 | D13: 초·중·고생 | E13: 주1회 | F13: 40000 | G13: 40000 | H13: =(G13-F13)/F13 -> 0 | J13: 2. 프로그램 영역별 강습료 | K13: 기타 | L13: 초·중·고생, 어린이 | M13: 주1회 | N13: 유사시설준용 | O13: =SUMIFS('조례와의 비교'!$F$3:$F$188,'조례와의 비교'!$B$3:$B$188,수서!J13,'조례와의 비교'!$C$3:$C$188,수서!K13,'조례와의 비교'!$D$3:$D$188,수서!L13,'조례와의 비교'!$E$3:$E$188,수서!M13) -> 0 | P13: =IF(G13>N13,"O","X") -> X | Q13: 주1회 1시간 인근 1시간 은평청소년센터50,000원, 서대문청소년센터 60,000원
A14: 9 | B14: 교육문화사업 | C14: 수학(중학생) | D14: 초·중·고생 | E14: 주2회 | F14: 120000 | G14: 120000 | H14: =(G14-F14)/F14 -> 0 | J14: 2. 프로그램 영역별 강습료 | K14: 기타 | L14: 초·중·고생, 어린이 | M14: 주2회 | N14: 유사시설준용 | O14: =SUMIFS('조례와의 비교'!$F$3:$F$188,'조례와의 비교'!$B$3:$B$188,수서!J14,'조례와의 비교'!$C$3:$C$188,수서!K14,'조례와의 비교'!$D$3:$D$188,수서!L14,'조례와의 비교'!$E$3:$E$188,수서!M14) -> 0 | P14: =IF(G14>N14,"O","X") -> X | Q14: 주2회 2시간 인근 1시간 은평청소년센터50,000원, 서대문청소년센터 60,000원
A15: 10 | B15: 교육문화사업 | C15: 바둑 | D15: 초·중·고생 | E15: 주1회 | F15: 30000 | G15: 30000 | H15: =(G15-F15)/F15 -> 0 | J15: 2. 프로그램 영역별 강습료 | K15: 기타 | L15: 초·중·고생, 어린이 | M15: 주1회 | N15: 유사시설준용 | O15: =SUMIFS('조례와의 비교'!$F$3:$F$188,'조례와의 비교'!$B$3:$B$188,수서!J15,'조례와의 비교'!$C$3:$C$188,수서!K15,'조례와의 비교'!$D$3:$D$188,수서!L15,'조례와의 비교'!$E$3:$E$188,수서!M15) -> 0 | P15: =IF(G15>N15,"O","X") -> X | Q15: 주2회 2시간 인근 1시간 은평청소년센터50,000원, 서대문청소년센터 60,000원
A16: 11 | B16: 교육문화사업 | C16: 체스 | D16: 초·중·고생 | E16: 주1회 | F16: 30000 | G16: 30000 | H16: =(G16-F16)/F16 -> 0 | J16: 2. 프로그램 영역별 강습료 | K16: 예체능 | L16: 초·중·고생, 어린이 | M16: 주1회 | N16: 35000 | O16: =SUMIFS('조례와의 비교'!$F$3:$F$188,'조례와의 비교'!$B$3:$B$188,수서!J16,'조례와의 비교'!$C$3:$C$188,수서!K16,'조례와의 비교'!$D$3:$D$188,수서!L16,'조례와의 비교'!$E$3:$E$188,수서!M16) -> 35000 | P16: =IF(G16>N16,"O","X") -> X | Q16: 주1회 1시간
A17: 12 | B17: 교육문화사업 | C17: 은물창의력 | D17: 초·중·고생 | E17: 주1회 | F17: 30000 | G17: 30000 | H17: =(G17-F17)/F17 -> 0 | J17: 2. 프로그램 영역별 강습료 | K17: 예체능 | L17: 초·중·고생, 어린이 | M17: 주1회 | N17: 35000 | O17: =SUMIFS('조례와의 비교'!$F$3:$F$188,'조례와의 비교'!$B$3:$B$188,수서!J17,'조례와의 비교'!$C$3:$C$188,수서!K17,'조례와의 비교'!$D$3:$D$188,수서!L17,'조례와의 비교'!$E$3:$E$188,수서!M17) -> 35000 | P17: =IF(G17>N17,"O","X") -> X | Q17: 주1회 1시간
A18: 13 | B18: 교육문화사업 | C18: 동화구연스피치웅변 | D18: 초·중·고생 | E18: 주1회 | F18: 33000 | G18: 33000 | H18: =(G18-F18)/F18 -> 0 | J18: 2. 프로그램 영역별 강습료 | K18: 기타 | L18: 초·중·고생, 어린이 | M18: 주1회 | N18: 유사시설준용 | O18: =SUMIFS('조례와의 비교'!$F$3:$F$188,'조례와의 비교'!$B$3:$B$188,수서!J18,'조례와의 비교'!$C$3:$C$188,수서!K18,'조례와의 비교'!$D$3:$D$188,수서!L18,'조례와의 비교'!$E$3:$E$188,수서!M18) -> 0 | P18: =IF(G18>N18,"O","X") -> X | Q18: 주1회 1시간 인근 1시간 송파청소년센터 40,000원, 홈플러스 40,000원
A19: 14 | B19: 교육문화사업 | C19: 자신감&스피치 | D19: 초·중·고생 | E19: 주1회 | F19: 40000 | G19: 40000 | H19: =(G19-F19)/F19 -> 0 | J19: 2. 프로그램 영역별 강습료 | K19: 기타 | L19: 초·중·고생, 어린이 | M19: 주1회 | N19: 유사시설준용 | O19: =SUMIFS('조례와의 비교'!$F$3:$F$188,'조례와의 비교'!$B$3:$B$188,수서!J19,'조례와의 비교'!$C$3:$C$188,수서!K19,'조례와의 비교'!$D$3:$D$188,수서!L19,'조례와의 비교'!$E$3:$E$188,수서!M19) -> 0 | P19: =IF(G19>N19,"O","X") -> X | Q19: 주1회 1시간 인근 1시간 송파청소년센터 40,000원, 홈플러스 40,000원
A20: 15 | B20: 교육문화사업 | C20: 열린사회이야기(역사) | D20: 초·중·고생 | E20: 주1회 | F20: 33000 | G20: 33000 | H20: =(G20-F20)/F20 -> 0 | J20: 2. 프로그램 영역별 강습료 | K20: 기타 | L20: 초·중·고생, 어린이 | M20: 주1회 | N20: 유사시설준용 | O20: =SUMIFS('조례와의 비교'!$F$3:$F$188,'조례와의 비교'!$B$3:$B$188,수서!J20,'조례와의 비교'!$C$3:$C$188,수서!K20,'조례와의 비교'!$D$3:$D$188,수서!L20,'조례와의 비교'!$E$3:$E$188,수서!M20) -> 0 | P20: =IF(G20>N20,"O","X") -> X | Q20: 주1회 1시간 인근 1시간 문래청소년센터 40,000원 송파청소년센터40,000원
A21: 16 | B21: 교육문화사업 | C21: 열린사회이야기(코딩) | D21: 초·중·고생 | E21: 주1회 | F21: 40000 | G21: 40000 | H21: =(G21-F21)/F21 -> 0 | J21: 2. 프로그램 영역별 강습료 | K21: 기타 | L21: 초·중·고생, 어린이 | M21: 주1회 | N21: 유사시설준용 | O21: =SUMIFS('조례와의 비교'!$F$3:$F$188,'조례와의 비교'!$B$3:$B$188,수서!J21,'조례와의 비교'!$C$3:$C$188,수서!K21,'조례와의 비교'!$D$3:$D$188,수서!L21,'조례와의 비교'!$E$3:$E$188,수서!M21) -> 0 | P21: =IF(G21>N21,"O","X") -> X | Q21: 주1회 1시간 인근 1시간 문래청소년센터 40,000원 송파청소년센터40,000원
A22: 17 | B22: 교육문화사업 | C22: 열린사회이야기(역사) | D22: 초·중·고생 | E22: 주1회 | F22: 56000 | G22: 56000 | H22: =(G22-F22)/F22 -> 0 | J22: 2. 프로그램 영역별 강습료 | K22: 기타 | L22: 초·중·고생, 어린이 | M22: 주1회 | N22: 유사시설준용 | O22: =SUMIFS('조례와의 비교'!$F$3:$F$188,'조례와의 비교'!$B$3:$B$188,수서!J22,'조례와의 비교'!$C$3:$C$188,수서!K22,'조례와의 비교'!$D$3:$D$188,수서!L22,'조례와의 비교'!$E$3:$E$188,수서!M22) -> 0 | P22: =IF(G22>N22,"O","X") -> X | Q22: 주1회 2시간 인근 1시간 문래청소년센터 40,000원 송파청소년센터40,000원
A23: 18 | B23: 교육문화사업 | C23: 서예 | D23: 초·중·고생 | E23: 주1회 | F23: 33000 | G23: 33000 | H23: =(G23-F23)/F23 -> 0 | J23: 2. 프로그램 영역별 강습료 | K23: 예체능 | L23: 초·중·고생, 어린이 | M23: 주1회 | N23: 35000 | O23: =SUMIFS('조례와의 비교'!$F$3:$F$188,'조례와의 비교'!$B$3:$B$188,수서!J23,'조례와의 비교'!$C$3:$C$188,수서!K23,'조례와의 비교'!$D$3:$D$188,수서!L23,'조례와의 비교'!$E$3:$E$188,수서!M23) -> 35000 | P23: =IF(G23>N23,"O","X") -> X | Q23: 주1회 1시간
A24: 19 | B24: 교육문화사업 | C24: 서예 | D24: 대학생, 성인 | E24: 주1회 | F24: 39000 | G24: 39000 | H24: =(G24-F24)/F24 -> 0 | J24: 2. 프로그램 영역별 강습료 | K24: 예체능 | L24: 대학생, 성인 | M24: 주1회 | N24: 39000 | O24: =SUMIFS('조례와의 비교'!$F$3:$F$188,'조례와의 비교'!$B$3:$B$188,수서!J24,'조례와의 비교'!$C$3:$C$188,수서!K24,'조례와의 비교'!$D$3:$D$188,수서!L24,'조례와의 비교'!$E$3:$E$188,수서!M24) -> 39000 | P24: =IF(G24>N24,"O","X") -> X | Q24: 주1회 1시간
A25: 20 | B25: 교육문화사업 | C25: 미술 | D25: 초·중·고생 | E25: 주1회 | F25: 35000 | G25: 35000 | H25: =(G25-F25)/F25 -> 0 | J25: 2. 프로그램 영역별 강습료 | K25: 예체능 | L25: 초·중·고생, 어린이 | M25: 주1회 | N25: 35000 | O25: =SUMIFS('조례와의 비교'!$F$3:$F$188,'조례와의 비교'!$B$3:$B$188,수서!J25,'조례와의 비교'!$C$3:$C$188,수서!K25,'조례와의 비교'!$D$3:$D$188,수서!L25,'조례와의 비교'!$E$3:$E$188,수서!M25) -> 35000 | P25: =IF(G25>N25,"O","X") -> X | Q25: 주1회 1시간
A26: 21 | B26: 교육문화사업 | C26: 미술 | D26: 대학생, 성인 | E26: 주1회 | F26: 40000 | G26: 40000 | H26: =(G26-F26)/F26 -> 0 | J26: 2. 프로그램 영역별 강습료 | K26: 예체능 | L26: 대학생, 성인 | M26: 주1회 | N26: 58500 | O26: =SUMIFS('조례와의 비교'!$F$3:$F$188,'조례와의 비교'!$B$3:$B$188,수서!J26,'조례와의 비교'!$C$3:$C$188,수서!K26,'조례와의 비교'!$D$3:$D$188,수서!L26,'조례와의 비교'!$E$3:$E$188,수서!M26) -> 39000 | P26: =IF(G26>N26,"O","X") -> X | Q26: 주1회 1.5시간
A27: 22 | B27: 교육문화사업 | C27: 미술 | D27: 대학생, 성인 | E27: 주1회 | F27: 45000 | G27: 45000 | H27: =(G27-F27)/F27 -> 0 | J27: 2. 프로그램 영역별 강습료 | K27: 예체능 | L27: 대학생, 성인 | M27: 주1회 | N27: 78000 | O27: =SUMIFS('조례와의 비교'!$F$3:$F$188,'조례와의 비교'!$B$3:$B$188,수서!J27,'조례와의 비교'!$C$3:$C$188,수서!K27,'조례와의 비교'!$D$3:$D$188,수서!L27,'조례와의 비교'!$E$3:$E$188,수서!M27) -> 39000 | P27: =IF(G27>N27,"O","X") -> X | Q27: 주1회 2시간
A28: 23 | B28: 교육문화사업 | C28: 미술 | D28: 초·중·고생 | E28: 주1회 | F28: 56000 | G28: 56000 | H28: =(G28-F28)/F28 -> 0 | J28: 2. 프로그램 영역별 강습료 | K28: 예체능 | L28: 초·중·고생, 어린이 | M28: 주1회 | N28: 70000 | O28: =SUMIFS('조례와의 비교'!$F$3:$F$188,'조례와의 비교'!$B$3:$B$188,수서!J28,'조례와의 비교'!$C$3:$C$188,수서!K28,'조례와의 비교'!$D$3:$D$188,수서!L28,'조례와의 비교'!$E$3:$E$188,수서!M28) -> 35000 | P28: =IF(G28>N28,"O","X") -> X | Q28: 주1회 2시간
A29: 24 | B29: 교육문화사업 | C29: 쿠키&클레이아트 | D29: 초·중·고생 | E29: 주1회 | F29: 35000 | G29: 35000 | H29: =(G29-F29)/F29 -> 0 | J29: 2. 프로그램 영역별 강습료 | K29: 예체능 | L29: 초·중·고생, 어린이 | M29: 주1회 | N29: 35000 | O29: =SUMIFS('조례와의 비교'!$F$3:$F$188,'조례와의 비교'!$B$3:$B$188,수서!J29,'조례와의 비교'!$C$3:$C$188,수서!K29,'조례와의 비교'!$D$3:$D$188,수서!L29,'조례와의 비교'!$E$3:$E$188,수서!M29) -> 35000 | P29: =IF(G29>N29,"O","X") -> X | Q29: 주1회 1시간
A30: 25 | B30: 교육문화사업 | C30: 영재미술아카데미 | D30: 초·중·고생 | E30: 주1회 | F30: 35000 | G30: 35000 | H30: =(G30-F30)/F30 -> 0 | J30: 2. 프로그램 영역별 강습료 | K30: 예체능 | L30: 초·중·고생, 어린이 | M30: 주1회 | N30: 35000 | O30: =SUMIFS('조례와의 비교'!$F$3:$F$188,'조례와의 비교'!$B$3:$B$188,수서!J30,'조례와의 비교'!$C$3:$C$188,수서!K30,'조례와의 비교'!$D$3:$D$188,수서!L30,'조례와의 비교'!$E$3:$E$188,수서!M30) -> 35000 | P30: =IF(G30>N30,"O","X") -> X | Q30: 주1회 1시간
A31: 26 | B31: 교육문화사업 | C31: 즐거운미술창작 | D31: 초·중·고생 | E31: 주1회 | F31: 35000 | G31: 35000 | H31: =(G31-F31)/F31 -> 0 | J31: 2. 프로그램 영역별 강습료 | K31: 예체능 | L31: 초·중·고생, 어린이 | M31: 주1회 | N31: 35000 | O31: =SUMIFS('조례와의 비교'!$F$3:$F$188,'조례와의 비교'!$B$3:$B$188,수서!J31,'조례와의 비교'!$C$3:$C$188,수서!K31,'조례와의 비교'!$D$3:$D$188,수서!L31,'조례와의 비교'!$E$3:$E$188,수서!M31) -> 35000 | P31: =IF(G31>N31,"O","X") -> X | Q31: 주1회 1시간
A32: 27 | B32: 교육문화사업 | C32: 종이공작 | D32: 초·중·고생 | E32: 주1회 | F32: 35000 | G32: 35000 | H32: =(G32-F32)/F32 -> 0 | J32: 2. 프로그램 영역별 강습료 | K32: 예체능 | L32: 초·중·고생, 어린이 | M32: 주1회 | N32: 35000 | O32: =SUMIFS('조례와의 비교'!$F$3:$F$188,'조례와의 비교'!$B$3:$B$188,수서!J32,'조례와의 비교'!$C$3:$C$188,수서!K32,'조례와의 비교'!$D$3:$D$188,수서!L32,'조례와의 비교'!$E$3:$E$188,수서!M32) -> 35000 | P32: =IF(G32>N32,"O","X") -> X | Q32: 주1회 1시간
A33: 28 | B33: 교육문화사업 | C33: 만화교실 | D33: 초·중·고생 | E33: 주1회 | F33: 35000 | G33: 35000 | H33: =(G33-F33)/F33 -> 0 | J33: 2. 프로그램 영역별 강습료 | K33: 예체능 | L33: 초·중·고생, 어린이 | M33: 주1회 | N33: 35000 | O33: =SUMIFS('조례와의 비교'!$F$3:$F$188,'조례와의 비교'!$B$3:$B$188,수서!J33,'조례와의 비교'!$C$3:$C$188,수서!K33,'조례와의 비교'!$D$3:$D$188,수서!L33,'조례와의 비교'!$E$3:$E$188,수서!M33) -> 35000 | P33: =IF(G33>N33,"O","X") -> X | Q33: 주1회 1시간
A34: 29 | B34: 교육문화사업 | C34: 만화교실 | D34: 초·중·고생 | E34: 주1회 | F34: 56000 | G34: 56000 | H34: =(G34-F34)/F34 -> 0 | J34: 2. 프로그램 영역별 강습료 | K34: 예체능 | L34: 초·중·고생, 어린이 | M34: 주1회 | N34: 70000 | O34: =SUMIFS('조례와의 비교'!$F$3:$F$188,'조례와의 비교'!$B$3:$B$188,수서!J34,'조례와의 비교'!$C$3:$C$188,수서!K34,'조례와의 비교'!$D$3:$D$188,수서!L34,'조례와의 비교'!$E$3:$E$188,수서!M34) -> 35000 | P34: =IF(G34>N34,"O","X") -> X | Q34: 주1회 2시간
... A36: 31 | B36: 교육문화사업 | C36: 피아노 | D36: 대학생, 성인 | E36: 주1회 | F36: 39000 | G36: 39000 | H36: =(G36-F36)/F36 -> 0 | J36: 2. 프로그램 영역별 강습료 | K36: 예체능 | L36: 대학생, 성인 | M36: 주1회 | N36: 39000 | O36: =SUMIFS('조례와의 비교'!$F$3:$F$188,'조례와의 비교'!$B$3:$B$188,수서!J36,'조례와의 비교'!$C$3:$C$188,수서!K36,'조례와의 비교'!$D$3:$D$188,수서!L36,'조례와의 비교'!$E$3:$E$188,수서!M36) -> 39000 | P36: =IF(G36>N36,"O","X") -> X | Q36: 주1회 1시간
A37: 32 | B37: 교육문화사업 | C37: 피아노 | D37: 초·중·고생 | E37: 주1회 | F37: 40000 | G37: 40000 | H37: =(G37-F37)/F37 -> 0 | J37: 2. 프로그램 영역별 강습료 | K37: 예체능 | L37: 초·중·고생, 어린이 | M37: 주1회 | N37: 유사시설준용 | O37: =SUMIFS('조례와의 비교'!$F$3:$F$188,'조례와의 비교'!$B$3:$B$188,수서!J37,'조례와의 비교'!$C$3:$C$188,수서!K37,'조례와의 비교'!$D$3:$D$188,수서!L37,'조례와의 비교'!$E$3:$E$188,수서!M37) -> 35000 | P37: =IF(G37>N37,"O","X") -> X | Q37: 주1회 1시간 조례상한가에 소수정예로 상한가가 정해지지 않아 유사시설 준용/ 인근 태화기독교사회복지관47,000원, 광진청소년센터 40,000원
A38: 33 | B38: 교육문화사업 | C38: 피아노 | D38: 대학생, 성인 | E38: 주1회 | F38: 40000 | G38: 40000 | H38: =(G38-F38)/F38 -> 0 | J38: 2. 프로그램 영역별 강습료 | K38: 예체능 | L38: 대학생, 성인 | M38: 주1회 | N38: 유사시설준용 | O38: =SUMIFS('조례와의 비교'!$F$3:$F$188,'조례와의 비교'!$B$3:$B$188,수서!J38,'조례와의 비교'!$C$3:$C$188,수서!K38,'조례와의 비교'!$D$3:$D$188,수서!L38,'조례와의 비교'!$E$3:$E$188,수서!M38) -> 39000 | P38: =IF(G38>N38,"O","X") -> X | Q38: 주1회 1시간 조례상한가에 소수정예로 상한가가 정해지지 않아 유사시설 준용/ 인근 태화기독교사회복지관47,000원, 광진청소년센터 40,000원
A39: 34 | B39: 교육문화사업 | C39: 피아노 | D39: 초·중·고생 | E39: 주2회 | F39: 55000 | G39: 55000 | H39: =(G39-F39)/F39 -> 0 | J39: 2. 프로그램 영역별 강습료 | K39: 예체능 | L39: 초·중·고생, 어린이 | M39: 주2회 | N39: 55000 | O39: =SUMIFS('조례와의 비교'!$F$3:$F$188,'조례와의 비교'!$B$3:$B$188,수서!J39,'조례와의 비교'!$C$3:$C$188,수서!K39,'조례와의 비교'!$D$3:$D$188,수서!L39,'조례와의 비교'!$E$3:$E$188,수서!M39) -> 55000 | P39: =IF(G39>N39,"O","X") -> X | Q39: 주2회 1시간
A40: 35 | B40: 교육문화사업 | C40: 피아노 | D40: 대학생, 성인 | E40: 주2회 | F40: 61000 | G40: 61000 | H40: =(G40-F40)/F40 -> 0 | J40: 2. 프로그램 영역별 강습료 | K40: 예체능 | L40: 대학생, 성인 | M40: 주2회 | N40: 61000 | O40: =SUMIFS('조례와의 비교'!$F$3:$F$188,'조례와의 비교'!$B$3:$B$188,수서!J40,'조례와의 비교'!$C$3:$C$188,수서!K40,'조례와의 비교'!$D$3:$D$188,수서!L40,'조례와의 비교'!$E$3:$E$188,수서!M40) -> 61000 | P40: =IF(G40>N40,"O","X") -> X | Q40: 주2회 1시간
A41: 36 | B41: 교육문화사업 | C41: 피아노 | D41: 초·중·고생 | E41: 주3회 | F41: 70000 | G41: 70000 | H41: =(G41-F41)/F41 -> 0 | J41: 2. 프로그램 영역별 강습료 | K41: 예체능 | L41: 초·중·고생, 어린이 | M41: 주3회 | N41: 70000 | O41: =SUMIFS('조례와의 비교'!$F$3:$F$188,'조례와의 비교'!$B$3:$B$188,수서!J41,'조례와의 비교'!$C$3:$C$188,수서!K41,'조례와의 비교'!$D$3:$D$188,수서!L41,'조례와의 비교'!$E$3:$E$188,수서!M41) -> 70000 | P41: =IF(G41>N41,"O","X") -> X | Q41: 주3회 1시간
A42: 37 | B42: 교육문화사업 | C42: 바이올린 | D42: 초·중·고생 | E42: 주1회 | F42: 35000 | G42: 35000 | H42: =(G42-F42)/F42 -> 0 | J42: 2. 프로그램 영역별 강습료 | K42: 예체능 | L42: 초·중·고생, 어린이 | M42: 주1회 | N42: 35000 | O42: =SUMIFS('조례와의 비교'!$F$3:$F$188,'조례와의 비교'!$B$3:$B$188,수서!J42,'조례와의 비교'!$C$3:$C$188,수서!K42,'조례와의 비교'!$D$3:$D$188,수서!L42,'조례와의 비교'!$E$3:$E$188,수서!M42) -> 35000 | P42: =IF(G42>N42,"O","X") -> X | Q42: 주1회 1시간
...

Sheet 조례와의 비교
B2: 조례영역 | C2: 조례구분 | D2: 조례대상 | E2: 조례횟수 | F2: 조례상한가(원) | G2: 비고
B3: 1. 시설사용료 | C3: 체육관 | D3: 대학생, 성인 | E3: 1회 | F3: 2500
B4: 1. 시설사용료 | C4: 체육관 | D4: 대학생, 성인 | E4: 주1회 | F4: 8800
B5: 1. 시설사용료 | C5: 체육관 | D5: 대학생, 성인 | E5: 주2회 | F5: 17600
B6: 1. 시설사용료 | C6: 체육관 | D6: 대학생, 성인 | E6: 주3회 | F6: 26400
B7: 1. 시설사용료 | C7: 체육관 | D7: 대학생, 성인 | E7: 주4회 | F7: 35200
B8: 1. 시설사용료 | C8: 체육관 | D8: 대학생, 성인 | E8: 주5회 | F8: 44000
B9: 1. 시설사용료 | C9: 체육관 | D9: 대학생, 성인 | E9: 주6회 | F9: 52800
B10: 1. 시설사용료 | C10: 체육관 | D10: 초·중·고생 | E10: 1회 | F10: 1800
B11: 1. 시설사용료 | C11: 체육관 | D11: 초·중·고생 | E11: 주1회 | F11: 6400
B12: 1. 시설사용료 | C12: 체육관 | D12: 초·중·고생 | E12: 주2회 | F12: 12800
B13: 1. 시설사용료 | C13: 체육관 | D13: 초·중·고생 | E13: 주3회 | F13: 19200
B14: 1. 시설사용료 | C14: 체육관 | D14: 초·중·고생 | E14: 주4회 | F14: 25600
... B23: 1. 시설사용료 | C23: 체육관 | D23: 어린이 | E23: 주6회 | F23: 31200
B24: 1. 시설사용료 | C24: 체육관 | D24: 기타 | E24: n회 | F24: 유사시설준용 | G24: 그밖에 요금을 정하지 아니한 사용료
B25: 1. 시설사용료 | C25: 수영장 | D25: 대학생, 성인 | E25: 1회 | F25: 4300
B26: 1. 시설사용료 | C26: 수영장 | D26: 대학생, 성인 | E26: 주1회 | F26: 17500
B27: 1. 시설사용료 | C27: 수영장 | D27: 대학생, 성인 | E27: 주2회 | F27: 35000
B28: 1. 시설사용료 | C28: 수영장 | D28: 대학생, 성인 | E28: 주3회 | F28: 52500
B29: 1. 시설사용료 | C29: 수영장 | D29: 대학생, 성인 | E29: 주4회 | F29: 70000
B30: 1. 시설사용료 | C30: 수영장 | D30: 대학생, 성인 | E30: 주5회 | F30: 87500
B31: 1. 시설사용료 | C31: 수영장 | D31: 대학생, 성인 | E31: 주6회 | F31: 105000
B32: 1. 시설사용료 | C32: 수영장 | D32: 초·중·고생 | E32: 1회 | F32: 2500
B33: 1. 시설사용료 | C33: 수영장 | D33: 초·중·고생 | E33: 주1회 | F33: 10000
B34: 1. 시설사용료 | C34: 수영장 | D34: 초·중·고생 | E34: 주2회 | F34: 20000
B35: 1. 시설사용료 | C35: 수영장 | D35: 초·중·고생 | E35: 주3회 | F35: 30000
B36: 1. 시설사용료 | C36: 수영장 | D36: 초·중·고생 | E36: 주4회 | F36: 40000
... B45: 1. 시설사용료 | C45: 수영장 | D45: 어린이 | E45: 주6회 | F45: 45000
B46: 1. 시설사용료 | C46: 수영장 | D46: 미정 | E46: n회 | F46: 유사시설준용 | G46: 그밖에 요금을 정하지 아니한 사용료
B47: 1. 시설사용료 | C47: 헬스장 | D47: 대학생, 성인 | E47: 1회 | F47: 3000
B48: 1. 시설사용료 | C48: 헬스장 | D48: 대학생, 성인 | E48: 주1회 | F48: 12500
B49: 1. 시설사용료 | C49: 헬스장 | D49: 대학생, 성인 | E49: 주2회 | F49: 25000
B50: 1. 시설사용료 | C50: 헬스장 | D50: 대학생, 성인 | E50: 주3회 | F50: 37500
B51: 1. 시설사용료 | C51: 헬스장 | D51: 대학생, 성인 | E51: 주4회 | F51: 50000
B52: 1. 시설사용료 | C52: 헬스장 | D52: 대학생, 성인 | E52: 주5회 | F52: 62500
B53: 1. 시설사용료 | C53: 헬스장 | D53: 대학생, 성인 | E53: 주6회 | F53: 75000
B54: 1. 시설사용료 | C54: 헬스장 | D54: 고등이하 | E54: 1회 | F54: 2000
B55: 1. 시설사용료 | C55: 헬스장 | D55: 고등이하 | E55: 주1회 | F55: 8500
B56: 1. 시설사용료 | C56: 헬스장 | D56: 고등이하 | E56: 주2회 | F56: 17000
B57: 1. 시설사용료 | C57: 헬스장 | D57: 고등이하 | E57: 주3회 | F57: 25500
...
