Workbook

Sheet 수서
A1: 2025년도 1차추경 시설이용료 승인요청 내역 (시립수서청소년센터)
A2: 작성시 유의사항 < 기존 시설이용료가 있는 경우 > 1. 기존 시설이용료에서 증감 없음 -> 추경 시설이용료에 기존 금액 그대로 입력, 변경사유 미입력 2. 기존 시설이용료에서 증감 있음 -> 추경 시설이용료에 증감 반영된 금액 입력, 변경사유 입력 (프로그램 폐지된 경우 추경 시설이용료에 0원 적고 변경사유에 프로그램 폐지라고 적으시면 됩니다 / 증액의 경우 증액사유, 감액의 경우 감액사유 작성) < 기존 시설이용료가 없는 경우 > 1. 제일 끝 연번 이후로 신규 작성할 것 (기존 시설이용료는 0으로 적시) * 조례영역, 조례구분, 조례대상, 조례횟수, 조례상한가(원)은 두번째셀 "조례와의 비교"에서 그대로 복사, 붙여넣기 하세요. N열과 O열이 일치해야 하고, 조례상한가 초과여부에 X로 표시되어야 합니다. (주말,공휴일 할증의 경우 다름 N열과 O열 다름. 이 경우 비고란에 적시) * 유사시설준용의 경우 비고란에 유사시설 이용료 반드시 적어주세요.
A4: 연번 | B4: 승인요청 시설이용료 | J4: 조례와의 비교 | O4: 검토사항 | Q4: 비고
B5: 사업구분 | C5: 프로그램명 | D5: 대상 | E5: 기준 | F5: 기존 시설이용료(원) | G5: 추경 시설이용료(원) | H5: 증감률 | I5: 변경사유 | J5: 조례영역 | K5: 조례구분 | L5: 조례대상 | M5: 조례횟수 | N5: 조례상한가(원) | O5: 조례상한가 확인 | P5: 조례상한가 초과여부
A6: 1 | B6: 교육문화사업 | C6: 생활외국어 | D6: 초·중·고생 | E6: 주1회 | F6: 33000 | G6: 33000 | H6: =(G6-F6)/F6 -> 0 | J6: 2. 프로그램 영역별 강습료 | K6: 외국어 | L6: 초·중·고생, 어린이 | M6: 주1회 | N6: 33000 | O6: =SUMIFS('조례와의 비교'!$F$3:$F$188,'조례와의 비교'!$B$3:$B$188,수서!J6,'조례와의 비교'!$C$3:$C$188,수서!K6,'조례와의 비교'!$D$3:$D$188,수서!L6,'조례와의 비교'!$E$3:$E$188,수서!M6) -> 33000 | P6: =IF(G6>N6,"O","X") -> X | Q6: 주1회 1시간
A7: 2 | B7: 교육문화사업 | C7: 생활외국어 | D7: 대학생, 성인 | E7: 주1회 | F7: 39000 | G7: 39000 | H7: =(G7-F7)/F7 -> 0 | J7: 2. 프로그램 영역별 강습료 | K7: 외국어 | L7: 대학생, 성인 | M7: 주1회 | N7: 39000 | O7: =SUMIFS('조례와의 비교'!$F$3:$F$188,'조례와의 비교'!$B$3:$B$188,수서!J7,'조례와의 비교'!$C$3:$C$188,수서!K7,'조례와의 비교'!$D$3:$D$188,수서!L7,'조례와의 비교'!$E$3:$E$188,수서!M7) -> 39000 | P7: =IF(G7>N7,"O","X") -> X | Q7: 주1회 1시간
A8: 3 | B8: 교육문화사업 | C8: 글쓰기논술 | D8: 초·중·고생 | E8: 주1회 | F8: 33000 | G8: 33000 | H8: =(G8-F8)/F8 -> 0 | J8: 2. 프로그램 영역별 강습료 | K8: 외국어 | L8: 초·중·고생, 어린이 | M8: 주1회 | N8: 39000 | O8: =SUMIFS('조례와의 비교'!$F$3:$F$188,'조례와의 비교'!$B$3:$B$188,수서!J8,'조례와의 비교'!$C$3:$C$188,수서!K8,'조례와의 비교'!$D$3:$D$188,수서!L8,'조례와의 비교'!$E$3:$E$188,수서!M8) -> 33000 | P8: =IF(G8>N8,"O","X") -> X | Q8: 주1회 1시간
A9: 4 | B9: 교육문화사업 | C9: 글쓰기논술 | D9: 초·중·고생 | E9: 주1회 | F9: 46000 | G9: 46000 | H9: =(G9-F9)/F9 -> 0 | J9: 2. 프로그램 영역별 강습료 | K9: 외국어 | L9: 초·중·고생, 어린이 | M9: 주1회 | N9: 66000 | O9: =SUMIFS('조례와의 비교'!$F$3:$F$188,'조례와의 비교'!$B$3:$B$188,수서!J9,'조례와의 비교'!$C$3:$C$188,수서!K9,'조례와의 비교'!$D$3:$D$188,수서!L9,'조례와의 비교'!$E$3:$E$188,수서!M9) -> 33000 | P9: =IF(G9>N9,"O","X") -> X | Q9: 주1회 2시간
A10: 5 | B10: 교육문화사업 | C10: 글쓰기논술 | D10: 초·중·고생 | E10: 주1회 | F10: 48000 | G10: 48000 | H10: =(G10-F10)/F10 -> 0 | J10: 2. 프로그램 영역별 강습료 | K10: 외국어 | L10: 초·중·고생, 어린이 | M10: 주1회 | N10: 66000 | O10: =SUMIFS('조례와의 비교'!$F$3:$F$188,'조례와의 비교'!$B$3:$B$188,수서!J10,'조례와의 비교'!$C$3:$C$188,수서!K10,'조례와의 비교'!$D$3:$D$188,수서!L10,'조례와의 비교'!$E$3:$E$188,수서!M10) -> 33000 | P10: =IF(G10>N10,"O","X") -> X | Q10: 주1회 2시간
A11: 6 | B11: 교육문화사업 | C11: 서당&경필쓰기 | D11: 초·중·고생 | E11: 주1회 | F11: 30000 | G11: 30000 | H11: =(G11-F11)/F11 -> 0 | J11: 2. 프로그램 영역별 강습료 | K11: 외국어 | L11: 초·중·고생, 어린이 | M11: 주1회 | N11: 33000 | O11: =SUMIFS('조례와의 비교'!$F$3:$F$188,'조례와의 비교'!$B$3:$B$188,수서!J11,'조례와의 비교'!$C$3:$C$188,수서!K11,'조례와의 비교'!$D$3:$D$188,수서!L11,'조례와의 비교'!$E$3:$E$188,수서!M11) -> 33000 | P11: =IF(G11>N11,"O","X") -> X | Q11: 주1회 1시간
A12: 7 | B12: 교육문화사업 | C12: 주산암산 | D12: 초·중·고생 | E12: 주1회 | F12: 30000 | G12: 30000 | H12: =(G12-F12)/F12 -> 0 | J12: 2. 프로그램 영역별 강습료 | K12: 기타 | L12: 초·중·고생, 어린이 | M12: 주1회 | N12: 유사시설준용 | O12: =SUMIFS('조례와의 비교'!$F$3:$F$188,'조례와의 비교'!$B$3:$B$188,수서!J12,'조례와의 비교'!$C$3:$C$188,수서!K12,'조례와의 비교'!$D$3:$D$188,수서!L12,'조례와의 비교'!$E$3:$E$188,수서!M12) -> 0 | P12: =IF(G12>N12,"O","X") -> X | Q12: 주1회 1시간 인근 1시간 역삼청소년센터30,000원, 목동청소년센터 33.,000원
A13: 8 | B13: 교육문화사업 | C13: 수학 | D13: 초·중·고생 | E13: 주1회 | F13: 40000 | G13: 40000 | H13: =(G13-F13)/F13 -> 0 | J13: 2. 프로그램 영역별 강습료 | K13: 기타 | L13: 초·중·고생, 어린이 | M13: 주1회 | N13: 유사시설준용 | O13: =SUMIFS('조례와의 비교'!$F$3:$F$188,'조례와의 비교'!$B$3:$B$188,수서!J13,'조례와의 비교'!$C$3:$C$188,수서!K13,'조례와의 비교'!$D$3:$D$188,수서!L13,'조례와의 비교'!$E$3:$E$188,수서!M13) -> 0 | P13: =IF(G13>N13,"O","X") -> X | Q13: 주1회 1시간 인근 1시간 은평청소년센터50,000원, 서대문청소년센터 60,000원
A14: 9 | B14: 교육문화사업 | C14: 수학(중학생) | D14: 초·중·고생 | E14: 주2회 | F14: 120000 | G14: 120000 | H14: =(G14-F14)/F14 -> 0 | J14: 2. 프로그램 영역별 강습료 | K14: 기타 | L14: 초·중·고생, 어린이 | M14: 주2회 | N14: 유사시설준용 | O14: =SUMIFS('조례와의 비교'!$F$3:$F$188,'조례와의 비교'!$B$3:$B$188,수서!J14,'조례와의 비교'!$C$3:$C$188,수서!K14,'조례와의 비교'!$D$3:$D$188,수서!L14,'조례와의 비교'!$E$3:$E$188,수서!M14) -> 0 | P14: =IF(G14>N14,"O","X") -> X | Q14: 주2회 2시간 인근 1시간 은평청소년센터50,000원, 서대문청소년센터 60,000원
A15: 10 | B15: 교육문화사업 | C15: 바둑 | D15: 초·중·고생 | E15: 주1회 | F15: 30000 | G15: 30000 | H15: =(G15-F15)/F15 -> 0 | J15: 2. 프로그램 영역별 강습료 | K15: 기타 | L15: 초·중·고생, 어린이 | M15: 주1회 | N15: 유사시설준용 | O15: =SUMIFS('조례와의 비교'!$F$3:$F$188,'조례와의 비교'!$B$3:$B$188,수서!J15,'조례와의 비교'!$C$3:$C$188,수서!K15,'조례와의 비교'!$D$3:$D$188,수서!L15,'조례와의 비교'!$E$3:$E$188,수서!M15) -> 0 | P15: =IF(G15>N15,"O","X") -> X | Q15: 주2회 2시간 인근 1시간 은평청소년센터50,000원, 서대문청소년센터 60,000원
A16: 11 | B16: 교육문화사업 | C16: 체스 | D16: 초·중·고생 | E16: 주1회 | F16: 30000 | G16: 30000 | H16: =(G16-F16)/F16 -> 0 | J16: 2. 프로그램 영역별 강습료 | K16: 예체능 | L16: 초·중·고생, 어린이 | M16: 주1회 | N16: 35000 | O16: =SUMIFS('조례와의 비교'!$F$3:$F$188,'조례와의 비교'!$B$3:$B$188,수서!J16,'조례와의 비교'!$C$3:$C$188,수서!K16,'조례와의 비교'!$D$3:$D$188,수서!L16,'조례와의 비교'!$E$3:$E$188,수서!M16) -> 35000 | P16: =IF(G16>N16,"O","X") -> X | Q16: 주1회 1시간
A17: 12 | B17: 교육문화사업 | C17: 은물창의력 | D17: 초·중·고생 | E17: 주1회 | F17: 30000 | G17: 30000 | H17: =(G17-F17)/F17 -> 0 | J17: 2. 프로그램 영역별 강습료 | K17: 예체능 | L17: 초·중·고생, 어린이 | M17: 주1회 | N17: 35000 | O17: =SUMIFS('조례와의 비교'!$F$3:$F$188,'조례와의 비교'!$B$3:$B$188,수서!J17,'조례와의 비교'!$C$3:$C$188,수서!K17,'조례와의 비교'!$D$3:$D$188,수서!L17,'조례와의 비교'!$E$3:$E$188,수서!M17) -> 35000 | P17: =IF(G17>N17,"O","X") -> X | Q17: 주1회 1시간
A18: 13 | B18: 교육문화사업 | C18: 동화구연스피치웅변 | D18: 초·중·고생 | E18: 주1회 | F18: 33000 | G18: 33000 | H18: =(G18-F18)/F18 -> 0 | J18: 2. 프로그램 영역별 강습료 | K18: 기타 | L18: 초·중·고생, 어린이 | M18: 주1회 | N18: 유사시설준용 | O18: =SUMIFS('조례와의 비교'!$F$3:$F$188,'조례와의 비교'!$B$3:$B$188,수서!J18,'조례와의 비교'!$C$3:$C$188,수서!K18,'조례와의 비교'!$D$3:$D$188,수서!L18,'조례와의 비교'!$E$3:$E$188,수서!M18) -> 0 | P18: =IF(G18>N18,"O","X") -> X | Q18: 주1회 1시간 인근 1시간 송파청소년센터 40,000원, 홈플러스 40,000원
A19: 14 | B19: 교육문화사업 | C19: 자신감&스피치 | D19: 초·중·고생 | E19: 주1회 | F19: 40000 | G19: 40000 | H19: =(G19-F19)/F19 -> 0 | J19: 2. 프로그램 영역별 강습료 | K19: 기타 | L19: 초·중·고생, 어린이 | M19: 주1회 | N19: 유사시설준용 | O19: =SUMIFS('조례와의 비교'!$F$3:$F$188,'조례와의 비교'!$B$3:$B$188,수서!J19,'조례와의 비교'!$C$3:$C$188,수서!K19,'조례와의 비교'!$D$3:$D$188,수서!L19,'조례와의 비교'!$E$3:$E$188,수서!M19) -> 0 | P19: =IF(G19>N19,"O","X") -> X | Q19: 주1회 1시간 인근 1시간 송파청소년센터 40,000원, 홈플러스 40,000원
A20: 15 | B20: 교육문화사업 | C20: 열린사회이야기(역사) | D20: 초·중·고생 | E20: 주1회 | F20: 33000 | G20: 33000 | H20: =(G20-F20)/F20 -> 0 | J20: 2. 프로그램 영역별 강습료 | K20: 기타 | L20: 초·중·고생, 어린이 | M20: 주1회 | N20: 유사시설준용 | O20: =SUMIFS('조례와의 비교'!$F$3:$F$188,'조례와의 비교'!$B$3:$B$188,수서!J20,'조례와의 비교'!$C$3:$C$188,수서!K20,'조례와의 비교'!$D$3:$D$188,수서!L20,'조례와의 비교'!$E$3:$E$188,수서!M20) -> 0 | P20: =IF(G20>N20,"O","X") -> X | Q20: 주1회 1시간 인근 1시간 문래청소년센터 40,000원 송파청소년센터40,000원
A21: 16 | B21: 교육문화사업 | C21: 열린사회이야기(코딩) | D21: 초·중·고생 | E21: 주1회 | F21: 40000 | G21: 40000 | H21: =(G21-F21)/F21 -> 0 | J21: 2. 프로그램 영역별 강습료 | K21: 기타 | L21: 초·중·고생, 어린이 | M21: 주1회 | N21: 유사시설준용 | O21: =SUMIFS('조례와의 비교'!$F$3:$F$188,'조례와의 비교'!$B$3:$B$188,수서!J21,'조례와의 비교'!$C$3:$C$188,수서!K21,'조례와의 비교'!$D$3:$D$188,수서!L21,'조례와의 비교'!$E$3:$E$188,수서!M21) -> 0 | P21: =IF(G21>N21,"O","X") -> X | Q21: 주1회 1시간 인근 1시간 문래청소년센터 40,000원 송파청소년센터40,000원
A22: 17 | B22: 교육문화사업 | C22: 열린사회이야기(역사) | D22: 초·중·고생 | E22: 주1회 | F22: 56000 | G22: 56000 | H22: =(G22-F22)/F22 -> 0 | J22: 2. 프로그램 영역별 강습료 | K22: 기타 | L22: 초·중·고생, 어린이 | M22: 주1회 | N22: 유사시설준용 | O22: =SUMIFS('조례와의 비교'!$F$3:$F$188,'조례와의 비교'!$B$3:$B$188,수서!J22,'조례와의 비교'!$C$3:$C$188,수서!K22,'조례와의 비교'!$D$3:$D$188,수서!L22,'조례와의 비교'!$E$3:$E$188,수서!M22) -> 0 | P22: =IF(G22>N22,"O","X") -> X | Q22: 주1회 2시간 인근 1시간 문래청소년센터 40,000원 송파청소년센터40,000원
A23: 18 | B23: 교육문화사업 | C23: 서예 | D23: 초·중·고생 | E23: 주1회 | F23: 33000 | G23: 33000 | H23: =(G23-F23)/F23 -> 0 | J23: 2. 프로그램 영역별 강습료 | K23: 예체능 | L23: 초·중·고생, 어린이 | M23: 주1회 | N23: 35000 | O23: =SUMIFS('조례와의 비교'!$F$3:$F$188,'조례와의 비교'!$B$3:$B$188,수서!J23,'조례와의 비교'!$C$3:$C$188,수서!K23,'조례와의 비교'!$D$3:$D$188,수서!L23,'조례와의 비교'!$E$3:$E$188,수서!M23) -> 35000 | P23: =IF(G23>N23,"O","X") -> X | Q23: 주1회 1시간
A24: 19 | B24: 교육문화사업 | C24: 서예 | D24: 대학생, 성인 | E24: 주1회 | F24: 39000 | G24: 39000 | H24: =(G24-F24)/F24 -> 0 | J24: 2. 프로그램 영역별 강습료 | K24: 예체능 | L24: 대학생, 성인 | M24: 주1회 | N24: 39000 | O24: =SUMIFS('조례와의 비교'!$F$3:$F$188,'조례와의 비교'!$B$3:$B$188,수서!J24,'조례와의 비교'!$C$3:$C$188,수서!K24,'조례와의 비교'!$D$3:$D$188,수서!L24,'조례와의 비교'!$E$3:$E$188,수서!M24) -> 39000 | P24: =IF(G24>N24,"O","X") -> X | Q24: 주1회 1시간
A25: 20 | B25: 교육문화사업 | C25: 미술 | D25: 초·중·고생 | E25: 주1회 | F25: 35000 | G25: 35000 | H25: =(G25-F25)/F25 -> 0 | J25: 2. 프로그램 영역별 강습료 | K25: 예체능 | L25: 초·중·고생, 어린이 | M25: 주1회 | N25: 35000 | O25: =SUMIFS('조례와의 비교'!$F$3:$F$188,'조례와의 비교'!$B$3:$B$188,수서!J25,'조례와의 비교'!$C$3:$C$188,수서!K25,'조례와의 비교'!$D$3:$D$188,수서!L25,'조례와의 비교'!$E$3:$E$188,수서!M25) -> 35000 | P25: =IF(G25>N25,"O","X") -> X | Q25: 주1회 1시간
A26: 21 | B26: 교육문화사업 | C26: 미술 | D26: 대학생, 성인 | E26: 주1회 | F26: 40000 | G26: 40000 | H26: =(G26-F26)/F26 -> 0 | J26: 2. 프로그램 영역별 강습료 | K26: 예체능 | L26: 대학생, 성인 | M26: 주1회 | N26: 58500 | O26: =SUMIFS('조례와의 비교'!$F$3:$F$188,'조례와의 비교'!$B$3:$B$188,수서!J26,'조례와의 비교'!$C$3:$C$188,수서!K26,'조례와의 비교'!$D$3:$D$188,수서!L26,'조례와의 비교'!$E$3:$E$188,수서!M26) -> 39000 | P26: =IF(G26>N26,"O","X") -> X | Q26: 주1회 1.5시간
A27: 22 | B27: 교육문화사업 | C27: 미술 | D27: 대학생, 성인 | E27: 주1회 | F27: 45000 | G27: 45000 | H27: =(G27-F27)/F27 -> 0 | J27: 2. 프로그램 영역별 강습료 | K27: 예체능 | L27: 대학생, 성인 | M27: 주1회 | N27: 78000 | O27: =SUMIFS('조례와의 비교'!$F$3:$F$188,'조례와의 비교'!$B$3:$B$188,수서!J27,'조례와의 비교'!$C$3:$C$188,수서!K27,'조례와의 비교'!$D$3:$D$188,수서!L27,'조례와의 비교'!$E$3:$E$188,수서!M27) -> 39000 | P27: =IF(G27>N27,"O","X") -> X | Q27: 주1회 2시간
A28: 23 | B28: 교육문화사업 | C28: 미술 | D28: 초·중·고생 | E28: 주1회 | F28: 56000 | G28: 56000 | H28: =(G28-F28)/F28 -> 0 | J28: 2. 프로그램 영역별 강습료 | K28: 예체능 | L28: 초·중·고생, 어린이 | M28: 주1회 | N28: 70000 | O28: =SUMIFS('조례와의 비교'!$F$3:$F$188,'조례와의 비교'!$B$3:$B$188,수서!J28,'조례와의 비교'!$C$3:$C$188,수서!K28,'조례와의 비교'!$D$3:$D$188,수서!L28,'조례와의 비교'!$E$3:$E$188,수서!M28) -> 35000 | P28: =IF(G28>N28,"O","X") -> X | Q28: 주1회 2시간
A29: 24 | B29: 교육문화사업 | C29: 쿠키&클레이아트 | D29: 초·중·고생 | E29: 주1회 | F29: 35000 | G29: 35000 | H29: =(G29-F29)/F29 -> 0 | J29: 2. 프로그램 영역별 강습료 | K29: 예체능 | L29: 초·중·고생, 어린이 | M29: 주1회 | N29: 35000 | O29: =SUMIFS('조례와의 비교'!$F$3:$F$188,'조례와의 비교'!$B$3:$B$188,수서!J29,'조례와의 비교'!$C$3:$C$188,수서!K29,'조례와의 비교'!$D$3:$D$188,수서!L29,'조례와의 비교'!$E$3:$E$188,수서!M29) -> 35000 | P29: =IF(G29>N29,"O","X") -> X | Q29: 주1회 1시간
A30: 25 | B30: 교육문화사업 | C30: 영재미술아카데미 | D30: 초·중·고생 | E30: 주1회 | F30: 35000 | G30: 35000 | H30: =(G30-F30)/F30 -> 0 | J30: 2. 프로그램 영역별 강습료 | K30: 예체능 | L30: 초·중·고생, 어린이 | M30: 주1회 | N30: 35000 | O30: =SUMIFS('조례와의 비교'!$F$3:$F$188,'조례와의 비교'!$B$3:$B$188,수서!J30,'조례와의 비교'!$C$3:$C$188,수서!K30,'조례와의 비교'!$D$3:$D$188,수서!L30,'조례와의 비교'!$E$3:$E$188,수서!M30) -> 35000 | P30: =IF(G30>N30,"O","X") -> X | Q30: 주1회 1시간
A31: 26 | B31: 교육문화사업 | C31: 즐거운미술창작 | D31: 초·중·고생 | E31: 주1회 | F31: 35000 | G31: 35000 | H31: =(G31-F31)/F31 -> 0 | J31: 2. 프로그램 영역별 강습료 | K31: 예체능 | L31: 초·중·고생, 어린이 | M31: 주1회 | N31: 35000 | O31: =SUMIFS('조례와의 비교'!$F$3:$F$188,'조례와의 비교'!$B$3:$B$188,수서!J31,'조례와의 비교'!$C$3:$C$188,수서!K31,'조례와의 비교'!$D$3:$D$188,수서!L31,'조례와의 비교'!$E$3:$E$188,수서!M31) -> 35000 | P31: =IF(G31>N31,"O","X") -> X | Q31: 주1회 1시간
A32: 27 | B32: 교육문화사업 | C32: 종이공작 | D32: 초·중·고생 | E32: 주1회 | F32: 35000 | G32: 35000 | H32: =(G32-F32)/F32 -> 0 | J32: 2. 프로그램 영역별 강습료 | K32: 예체능 | L32: 초·중·고생, 어린이 | M32: 주1회 | N32: 35000 | O32: =SUMIFS('조례와의 비교'!$F$3:$F$188,'조례와의 비교'!$B$3:$B$188,수서!J32,'조례와의 비교'!$C$3:$C$188,수서!K32,'조례와의 비교'!$D$3:$D$188,수서!L32,'조례와의 비교'!$E$3:$E$188,수서!M32) -> 35000 | P32: =IF(G32>N32,"O","X") -> X | Q32: 주1회 1시간
A33: 28 | B33: 교육문화사업 | C33: 만화교실 | D33: 초·중·고생 | E33: 주1회 | F33: 35000 | G33: 35000 | H33: =(G33-F33)/F33 -> 0 | J33: 2. 프로그램 영역별 강습료 | K33: 예체능 | L33: 초·중·고생, 어린이 | M33: 주1회 | N33: 35000 | O33: =SUMIFS('조례와의 비교'!$F$3:$F$188,'조례와의 비교'!$B$3:$B$188,수서!J33,'조례와의 비교'!$C$3:$C$188,수서!K33,'조례와의 비교'!$D$3:$D$188,수서!L33,'조례와의 비교'!$E$3:$E$188,수서!M33) -> 35000 | P33: =IF(G33>N33,"O","X") -> X | Q33: 주1회 1시간
A34: 29 | B34: 교육문화사업 | C34: 만화교실 | D34: 초·중·고생 | E34: 주1회 | F34: 56000 | G34: 56000 | H34: =(G34-F34)/F34 -> 0 | J34: 2. 프로그램 영역별 강습료 | K34: 예체능 | L34: 초·중·고생, 어린이 | M34: 주1회 | N34: 70000 | O34: =SUMIFS('조례와의 비교'!$F$3:$F$188,'조례와의 비교'!$B$3:$B$188,수서!J34,'조례와의 비교'!$C$3:$C$188,수서!K34,'조례와의 비교'!$D$3:$D$188,수서!L34,'조례와의 비교'!$E$3:$E$188,수서!M34) -> 35000 | P34: =IF(G34>N34,"O","X") -> X | Q34: 주1회 2시간
... A36: 31 | B36: 교육문화사업 | C36: 피아노 | D36: 대학생, 성인 | E36: 주1회 | F36: 39000 | G36: 39000 | H36: =(G36-F36)/F36 -> 0 | J36: 2. 프로그램 영역별 강습료 | K36: 예체능 | L36: 대학생, 성인 | M36: 주1회 | N36: 39000 | O36: =SUMIFS('조례와의 비교'!$F$3:$F$188,'조례와의 비교'!$B$3:$B$188,수서!J36,'조례와의 비교'!$C$3:$C$188,수서!K36,'조례와의 비교'!$D$3:$D$188,수서!L36,'조례와의 비교'!$E$3:$E$188,수서!M36) -> 39000 | P36: =IF(G36>N36,"O","X") -> X | Q36: 주1회 1시간
A37: 32 | B37: 교육문화사업 | C37: 피아노 | D37: 초·중·고생 | E37: 주1회 | F37: 40000 | G37: 40000 | H37: =(G37-F37)/F37 -> 0 | J37: 2. 프로그램 영역별 강습료 | K37: 예체능 | L37: 초·중·고생, 어린이 | M37: 주1회 | N37: 유사시설준용 | O37: =SUMIFS('조례와의 비교'!$F$3:$F$188,'조례와의 비교'!$B$3:$B$188,수서!J37,'조례와의 비교'!$C$3:$C$188,수서!K37,'조례와의 비교'!$D$3:$D$188,수서!L37,'조례와의 비교'!$E$3:$E$188,수서!M37) -> 35000 | P37: =IF(G37>N37,"O","X") -> X | Q37: 주1회 1시간 조례상한가에 소수정예로 상한가가 정해지지 않아 유사시설 준용/ 인근 태화기독교사회복지관47,000원, 광진청소년센터 40,000원
A38: 33 | B38: 교육문화사업 | C38: 피아노 | D38: 대학생, 성인 | E38: 주1회 | F38: 40000 | G38: 40000 | H38: =(G38-F38)/F38 -> 0 | J38: 2. 프로그램 영역별 강습료 | K38: 예체능 | L38: 대학생, 성인 | M38: 주1회 | N38: 유사시설준용 | O38: =SUMIFS('조례와의 비교'!$F$3:$F$188,'조례와의 비교'!$B$3:$B$188,수서!J38,'조례와의 비교'!$C$3:$C$188,수서!K38,'조례와의 비교'!$D$3:$D$188,수서!L38,'조례와의 비교'!$E$3:$E$188,수서!M38) -> 39000 | P38: =IF(G38>N38,"O","X") -> X | Q38: 주1회 1시간 조례상한가에 소수정예로 상한가가 정해지지 않아 유사시설 준용/ 인근 태화기독교사회복지관47,000원, 광진청소년센터 40,000원
A39: 34 | B39: 교육문화사업 | C39: 피아노 | D39: 초·중·고생 | E39: 주2회 | F39: 55000 | G39: 55000 | H39: =(G39-F39)/F39 -> 0 | J39: 2. 프로그램 영역별 강습료 | K39: 예체능 | L39: 초·중·고생, 어린이 | M39: 주2회 | N39: 55000 | O39: =SUMIFS('조례와의 비교'!$F$3:$F$188,'조례와의 비교'!$B$3:$B$188,수서!J39,'조례와의 비교'!$C$3:$C$188,수서!K39,'조례와의 비교'!$D$3:$D$188,수서!L39,'조례와의 비교'!$E$3:$E$188,수서!M39) -> 55000 | P39: =IF(G39>N39,"O","X") -> X | Q39: 주2회 1시간
A40: 35 | B40: 교육문화사업 | C40: 피아노 | D40: 대학생, 성인 | E40: 주2회 | F40: 61000 | G40: 61000 | H40: =(G40-F40)/F40 -> 0 | J40: 2. 프로그램 영역별 강습료 | K40: 예체능 | L40: 대학생, 성인 | M40: 주2회 | N40: 61000 | O40: =SUMIFS('조례와의 비교'!$F$3:$F$188,'조례와의 비교'!$B$3:$B$188,수서!J40,'조례와의 비교'!$C$3:$C$188,수서!K40,'조례와의 비교'!$D$3:$D$188,수서!L40,'조례와의 비교'!$E$3:$E$188,수서!M40) -> 61000 | P40: =IF(G40>N40,"O","X") -> X | Q40: 주2회 1시간
A41: 36 | B41: 교육문화사업 | C41: 피아노 | D41: 초·중·고생 | E41: 주3회 | F41: 70000 | G41: 70000 | H41: =(G41-F41)/F41 -> 0 | J41: 2. 프로그램 영역별 강습료 | K41: 예체능 | L41: 초·중·고생, 어린이 | M41: 주3회 | N41: 70000 | O41: =SUMIFS('조례와의 비교'!$F$3:$F$188,'조례와의 비교'!$B$3:$B$188,수서!J41,'조례와의 비교'!$C$3:$C$188,수서!K41,'조례와의 비교'!$D$3:$D$188,수서!L41,'조례와의 비교'!$E$3:$E$188,수서!M41) -> 70000 | P41: =IF(G41>N41,"O","X") -> X | Q41: 주3회 1시간
A42: 37 | B42: 교육문화사업 | C42: 바이올린 | D42: 초·중·고생 | E42: 주1회 | F42: 35000 | G42: 35000 | H42: =(G42-F42)/F42 -> 0 | J42: 2. 프로그램 영역별 강습료 | K42: 예체능 | L42: 초·중·고생, 어린이 | M42: 주1회 | N42: 35000 | O42: =SUMIFS('조례와의 비교'!$F$3:$F$188,'조례와의 비교'!$B$3:$B$188,수서!J42,'조례와의 비교'!$C$3:$C$188,수서!K42,'조례와의 비교'!$D$3:$D$188,수서!L42,'조례와의 비교'!$E$3:$E$188,수서!M42) -> 35000 | P42: =IF(G42>N42,"O","X") -> X | Q42: 주1회 1시간
A43: 38 | B43: 교육문화사업 | C43: 바이올린 | D43: 대학생, 성인 | E43: 주1회 | F43: 39000 | G43: 39000 | H43: =(G43-F43)/F43 -> 0 | J43: 2. 프로그램 영역별 강습료 | K43: 예체능 | L43: 대학생, 성인 | M43: 주1회 | N43: 39000 | O43: =SUMIFS('조례와의 비교'!$F$3:$F$188,'조례와의 비교'!$B$3:$B$188,수서!J43,'조례와의 비교'!$C$3:$C$188,수서!K43,'조례와의 비교'!$D$3:$D$188,수서!L43,'조례와의 비교'!$E$3:$E$188,수서!M43) -> 39000 | P43: =IF(G43>N43,"O","X") -> X | Q43: 주1회 1시간
A44: 39 | B44: 교육문화사업 | C44: 첼로 | D44: 초·중·고생 | E44: 주1회 | F44: 80000 | G44: 80000 | H44: =(G44-F44)/F44 -> 0 | J44: 2. 프로그램 영역별 강습료 | K44: 예체능 | L44: 초·중·고생, 어린이 | M44: 주1회 | N44: 유사시설준용 | O44: =SUMIFS('조례와의 비교'!$F$3:$F$188,'조례와의 비교'!$B$3:$B$188,수서!J44,'조례와의 비교'!$C$3:$C$188,수서!K44,'조례와의 비교'!$D$3:$D$188,수서!L44,'조례와의 비교'!$E$3:$E$188,수서!M44) -> 35000 | P44: =IF(G44>N44,"O","X") -> X | Q44: 주1회 1시간 조례상한가에 소수정예로 상한가가 정해지지 않아 유사시설 준용/ 인근 강남점 롯데문화센터 96,000원, 태화기독교사회복지관 88,000원
A45: 40 | B45: 교육문화사업 | C45: 첼로 | D45: 대학생, 성인 | E45: 주1회 | F45: 80000 | G45: 80000 | H45: =(G45-F45)/F45 -> 0 | J45: 2. 프로그램 영역별 강습료 | K45: 예체능 | L45: 대학생, 성인 | M45: 주1회 | N45: 유사시설준용 | O45: =SUMIFS('조례와의 비교'!$F$3:$F$188,'조례와의 비교'!$B$3:$B$188,수서!J45,'조례와의 비교'!$C$3:$C$188,수서!K45,'조례와의 비교'!$D$3:$D$188,수서!L45,'조례와의 비교'!$E$3:$E$188,수서!M45) -> 39000 | P45: =IF(G45>N45,"O","X") -> X | Q45: 주1회 1시간 조례상한가에 소수정예로 상한가가 정해지지 않아 유사시설 준용/ 인근 강남점 롯데문화센터96,000원, 태화기독교사회복지관 88,000원
A46: 41 | B46: 교육문화사업 | C46: 클래식기타 | D46: 초·중·고생 | E46: 주1회 | F46: 35000 | G46: 35000 | H46: =(G46-F46)/F46 -> 0 | J46: 2. 프로그램 영역별 강습료 | K46: 예체능 | L46: 초·중·고생, 어린이 | M46: 주1회 | N46: 35000 | O46: =SUMIFS('조례와의 비교'!$F$3:$F$188,'조례와의 비교'!$B$3:$B$188,수서!J46,'조례와의 비교'!$C$3:$C$188,수서!K46,'조례와의 비교'!$D$3:$D$188,수서!L46,'조례와의 비교'!$E$3:$E$188,수서!M46) -> 35000 | P46: =IF(G46>N46,"O","X") -> X | Q46: 주1회 1시간
A47: 42 | B47: 교육문화사업 | C47: 클래식기타 | D47: 대학생, 성인 | E47: 주1회 | F47: 39000 | G47: 39000 | H47: =(G47-F47)/F47 -> 0 | J47: 2. 프로그램 영역별 강습료 | K47: 예체능 | L47: 대학생, 성인 | M47: 주1회 | N47: 39000 | O47: =SUMIFS('조례와의 비교'!$F$3:$F$188,'조례와의 비교'!$B$3:$B$188,수서!J47,'조례와의 비교'!$C$3:$C$188,수서!K47,'조례와의 비교'!$D$3:$D$188,수서!L47,'조례와의 비교'!$E$3:$E$188,수서!M47) -> 39000 | P47: =IF(G47>N47,"O","X") -> X | Q47: 주1회 1시간
A48: 43 | B48: 교육문화사업 | C48: 클래식기타 | D48: 대학생, 성인 | E48: 주1회 | F48: 45000 | G48: 45000 | H48: =(G48-F48)/F48 -> 0 | J48: 2. 프로그램 영역별 강습료 | K48: 예체능 | L48: 대학생, 성인 | M48: 주1회 | N48: 78000 | O48: =SUMIFS('조례와의 비교'!$F$3:$F$188,'조례와의 비교'!$B$3:$B$188,수서!J48,'조례와의 비교'!$C$3:$C$188,수서!K48,'조례와의 비교'!$D$3:$D$188,수서!L48,'조례와의 비교'!$E$3:$E$188,수서!M48) -> 39000 | P48: =IF(G48>N48,"O","X") -> X | Q48: 주1회 1시간
A49: 44 | B49: 교육문화사업 | C49: 일랙기타 | D49: 초·중·고생 | E49: 주1회 | F49: 35000 | G49: 35000 | H49: =(G49-F49)/F49 -> 0 | J49: 2. 프로그램 영역별 강습료 | K49: 예체능 | L49: 초·중·고생, 어린이 | M49: 주1회 | N49: 35000 | O49: =SUMIFS('조례와의 비교'!$F$3:$F$188,'조례와의 비교'!$B$3:$B$188,수서!J49,'조례와의 비교'!$C$3:$C$188,수서!K49,'조례와의 비교'!$D$3:$D$188,수서!L49,'조례와의 비교'!$E$3:$E$188,수서!M49) -> 35000 | P49: =IF(G49>N49,"O","X") -> X | Q49: 주1회 1시간
A50: 45 | B50: 교육문화사업 | C50: 일랙기타 | D50: 대학생, 성인 | E50: 주1회 | F50: 39000 | G50: 39000 | H50: =(G50-F50)/F50 -> 0 | J50: 2. 프로그램 영역별 강습료 | K50: 예체능 | L50: 대학생, 성인 | M50: 주1회 | N50: 39000 | O50: =SUMIFS('조례와의 비교'!$F$3:$F$188,'조례와의 비교'!$B$3:$B$188,수서!J50,'조례와의 비교'!$C$3:$C$188,수서!K50,'조례와의 비교'!$D$3:$D$188,수서!L50,'조례와의 비교'!$E$3:$E$188,수서!M50) -> 39000 | P50: =IF(G50>N50,"O","X") -> X | Q50: 주1회 1시간
A51: 46 | B51: 교육문화사업 | C51: 관악기(플릇,클라리넷) | D51: 초·중·고생 | E51: 주1회 | F51: 35000 | G51: 35000 | H51: =(G51-F51)/F51 -> 0 | J51: 2. 프로그램 영역별 강습료 | K51: 예체능 | L51: 초·중·고생, 어린이 | M51: 주1회 | N51: 35000 | O51: =SUMIFS('조례와의 비교'!$F$3:$F$188,'조례와의 비교'!$B$3:$B$188,수서!J51,'조례와의 비교'!$C$3:$C$188,수서!K51,'조례와의 비교'!$D$3:$D$188,수서!L51,'조례와의 비교'!$E$3:$E$188,수서!M51) -> 35000 | P51: =IF(G51>N51,"O","X") -> X | Q51: 주1회 1시간
A52: 47 | B52: 교육문화사업 | C52: 관악기(플릇,클라리넷) | D52: 대학생, 성인 | E52: 주1회 | F52: 39000 | G52: 39000 | H52: =(G52-F52)/F52 -> 0 | J52: 2. 프로그램 영역별 강습료 | K52: 예체능 | L52: 대학생, 성인 | M52: 주1회 | N52: 39000 | O52: =SUMIFS('조례와의 비교'!$F$3:$F$188,'조례와의 비교'!$B$3:$B$188,수서!J52,'조례와의 비교'!$C$3:$C$188,수서!K52,'조례와의 비교'!$D$3:$D$188,수서!L52,'조례와의 비교'!$E$3:$E$188,수서!M52) -> 39000 | P52: =IF(G52>N52,"O","X") -> X | Q52: 주1회 1시간
A53: 48 | B53: 교육문화사업 | C53: 드럼 | D53: 초·중·고생 | E53: 주1회 | F53: 50000 | G53: 50000 | H53: =(G53-F53)/F53 -> 0 | J53: 2. 프로그램 영역별 강습료 | K53: 예체능 | L53: 초·중·고생, 어린이 | M53: 주1회 | N53: 유사시설준용 | O53: =SUMIFS('조례와의 비교'!$F$3:$F$188,'조례와의 비교'!$B$3:$B$188,수서!J53,'조례와의 비교'!$C$3:$C$188,수서!K53,'조례와의 비교'!$D$3:$D$188,수서!L53,'조례와의 비교'!$E$3:$E$188,수서!M53) -> 35000 | P53: =IF(G53>N53,"O","X") -> X | Q53: 주1회 1시간, 소수반 상한가가 정해지지 않아 유사시설 준용/인근 태화기독교사회복지관 50,000원 /송파청소년센터 54,000원
A54: 49 | B54: 교육문화사업 | C54: 드럼 | D54: 대학생, 성인 | E54: 주1회 | F54: 50000 | G54: 50000 | H54: =(G54-F54)/F54 -> 0 | J54: 2. 프로그램 영역별 강습료 | K54: 예체능 | L54: 대학생, 성인 | M54: 주1회 | N54: 유사시설준용 | O54: =SUMIFS('조례와의 비교'!$F$3:$F$188,'조례와의 비교'!$B$3:$B$188,수서!J54,'조례와의 비교'!$C$3:$C$188,수서!K54,'조례와의 비교'!$D$3:$D$188,수서!L54,'조례와의 비교'!$E$3:$E$188,수서!M54) -> 39000 | P54: =IF(G54>N54,"O","X") -> X | Q54: 주1회 1시간, 소수반 상한가가 정해지지 않아 유사시설 준용/인근 태화기독교사회복지관 50,000원 /송파청소년센터 54,000원
A55: 50 | B55: 교육문화사업 | C55: 드럼 | D55: 초·중·고생 | E55: 1회 | F55: 3000 | G55: 3000 | H55: =(G55-F55)/F55 -> 0 | J55: 2. 프로그램 영역별 강습료 | K55: 예체능 | L55: 초·중·고생, 어린이 | M55: n회 | N55: 유사시설준용 | O55: =SUMIFS('조례와의 비교'!$F$3:$F$188,'조례와의 비교'!$B$3:$B$188,수서!J55,'조례와의 비교'!$C$3:$C$188,수서!K55,'조례와의 비교'!$D$3:$D$188,수서!L55,'조례와의 비교'!$E$3:$E$188,수서!M55) -> 0 | P55: =IF(G55>N55,"O","X") -> X | Q55: 1회1시간 조례상 드럼연습실사용 상한가가 정해지지 않아 유사시설 준용 /인근 피스드럼연습실 10,0000원 LAYBACK드럼연습실 8,000원
A56: 51 | B56: 교육문화사업 | C56: 드럼 | D56: 대학생, 성인 | E56: 1회 | F56: 3000 | G56: 3000 | H56: =(G56-F56)/F56 -> 0 | J56: 2. 프로그램 영역별 강습료 | K56: 예체능 | L56: 대학생, 성인 | M56: n회 | N56: 유사시설준용 | O56: =SUMIFS('조례와의 비교'!$F$3:$F$188,'조례와의 비교'!$B$3:$B$188,수서!J56,'조례와의 비교'!$C$3:$C$188,수서!K56,'조례와의 비교'!$D$3:$D$188,수서!L56,'조례와의 비교'!$E$3:$E$188,수서!M56) -> 0 | P56: =IF(G56>N56,"O","X") -> X | Q56: 1회1시간 조례상 드럼연습실사용 상한가가 정해지지 않아 유사시설 준용 /인근 피스드럼연습실 10,0000원 LAYBACK드럼연습실 8,000원
A57: 52 | B57: 교육문화사업 | C57: 드럼 | D57: 초·중·고생 | E57: 1회 | F57: 5000 | G57: 5000 | H57: =(G57-F57)/F57 -> 0 | J57: 2. 프로그램 영역별 강습료 | K57: 예체능 | L57: 초·중·고생, 어린이 | M57: n회 | N57: 유사시설준용 | O57: =SUMIFS('조례와의 비교'!$F$3:$F$188,'조례와의 비교'!$B$3:$B$188,수서!J57,'조례와의 비교'!$C$3:$C$188,수서!K57,'조례와의 비교'!$D$3:$D$188,수서!L57,'조례와의 비교'!$E$3:$E$188,수서!M57) -> 0 | P57: =IF(G57>N57,"O","X") -> X | Q57: 1회1시간 조례상 드럼연습실사용 상한가가 정해지지 않아 유사시설 준용 /인근 피스드럼연습실 10,0000원 LAYBACK드럼연습실 8,000원
A58: 53 | B58: 교육문화사업 | C58: 드럼 | D58: 대학생, 성인 | E58: 1회 | F58: 5000 | G58: 5000 | H58: =(G58-F58)/F58 -> 0 | J58: 2. 프로그램 영역별 강습료 | K58: 예체능 | L58: 대학생, 성인 | M58: n회 | N58: 유사시설준용 | O58: =SUMIFS('조례와의 비교'!$F$3:$F$188,'조례와의 비교'!$B$3:$B$188,수서!J58,'조례와의 비교'!$C$3:$C$188,수서!K58,'조례와의 비교'!$D$3:$D$188,수서!L58,'조례와의 비교'!$E$3:$E$188,수서!M58) -> 0 | P58: =IF(G58>N58,"O","X") -> X | Q58: 1회2시간 조례상 드럼연습실사용 상한가가 정해지지 않아 유사시설 준용 /인근 피스드럼연습실 20,0000원 LAYBACK드럼연습실 16.,000원
A59: 54 | B59: 교육문화사업 | C59: 수서청소년오케스트라 | D59: 초·중·고생 | E59: 주1회 | F59: 70000 | G59: 70000 | H59: =(G59-F59)/F59 -> 0 | J59: 2. 프로그램 영역별 강습료 | K59: 예체능 | L59: 초·중·고생, 어린이 | M59: 주1회 | N59: 70000 | O59: =SUMIFS('조례와의 비교'!$F$3:$F$188,'조례와의 비교'!$B$3:$B$188,수서!J59,'조례와의 비교'!$C$3:$C$188,수서!K59,'조례와의 비교'!$D$3:$D$188,수서!L59,'조례와의 비교'!$E$3:$E$188,수서!M59) -> 35000 | P59: =IF(G59>N59,"O","X") -> X | Q59: 주1회 2시간
A60: 55 | B60: 교육문화사업 | C60: 전통국악 | D60: 초·중·고생 | E60: 주1회 | F60: 35000 | G60: 35000 | H60: =(G60-F60)/F60 -> 0 | J60: 2. 프로그램 영역별 강습료 | K60: 예체능 | L60: 초·중·고생, 어린이 | M60: 주1회 | N60: 35000 | O60: =SUMIFS('조례와의 비교'!$F$3:$F$188,'조례와의 비교'!$B$3:$B$188,수서!J60,'조례와의 비교'!$C$3:$C$188,수서!K60,'조례와의 비교'!$D$3:$D$188,수서!L60,'조례와의 비교'!$E$3:$E$188,수서!M60) -> 35000 | P60: =IF(G60>N60,"O","X") -> X | Q60: 주1회 1시간
A61: 56 | B61: 교육문화사업 | C61: 전동국악 | D61: 대학생, 성인 | E61: 주1회 | F61: 39000 | G61: 39000 | H61: =(G61-F61)/F61 -> 0 | J61: 2. 프로그램 영역별 강습료 | K61: 예체능 | L61: 대학생, 성인 | M61: 주1회 | N61: 39000 | O61: =SUMIFS('조례와의 비교'!$F$3:$F$188,'조례와의 비교'!$B$3:$B$188,수서!J61,'조례와의 비교'!$C$3:$C$188,수서!K61,'조례와의 비교'!$D$3:$D$188,수서!L61,'조례와의 비교'!$E$3:$E$188,수서!M61) -> 39000 | P61: =IF(G61>N61,"O","X") -> X | Q61: 주1회 1시간
A62: 57 | B62: 교육문화사업 | C62: 전통국악 | D62: 초·중·고생 | E62: 주1회 | F62: 80000 | G62: 80000 | H62: =(G62-F62)/F62 -> 0 | J62: 2. 프로그램 영역별 강습료 | K62: 예체능 | L62: 초·중·고생, 어린이 | M62: 주1회 | N62: 유사시설준용 | O62: =SUMIFS('조례와의 비교'!$F$3:$F$188,'조례와의 비교'!$B$3:$B$188,수서!J62,'조례와의 비교'!$C$3:$C$188,수서!K62,'조례와의 비교'!$D$3:$D$188,수서!L62,'조례와의 비교'!$E$3:$E$188,수서!M62) -> 35000 | P62: =IF(G62>N62,"O","X") -> X | Q62: 주1회 1시간 조례상한가에 소수정예로 상한가가 정해지지 않아 유사시설 준용/ 인근 선릉아트홀아카데미 150,000원, 한소리국악원85,000원
A63: 58 | B63: 교육문화사업 | C63: 전통국악 | D63: 대학생, 성인 | E63: 주1회 | F63: 80000 | G63: 80000 | H63: =(G63-F63)/F63 -> 0 | J63: 2. 프로그램 영역별 강습료 | K63: 예체능 | L63: 대학생, 성인 | M63: 주1회 | N63: 유사시설준용 | O63: =SUMIFS('조례와의 비교'!$F$3:$F$188,'조례와의 비교'!$B$3:$B$188,수서!J63,'조례와의 비교'!$C$3:$C$188,수서!K63,'조례와의 비교'!$D$3:$D$188,수서!L63,'조례와의 비교'!$E$3:$E$188,수서!M63) -> 39000 | P63: =IF(G63>N63,"O","X") -> X | Q63: 주1회 1시간 조례상한가에 소수정예로 상한가가 정해지지 않아 유사시설 준용/ 인근 선릉아트홀아카데미 150,000원, 한소리국악원85,000원
A64: 59 | B64: 교육문화사업 | C64: 우쿨렐레 | D64: 초·중·고생 | E64: 주1회 | F64: 35000 | G64: 35000 | H64: =(G64-F64)/F64 -> 0 | J64: 2. 프로그램 영역별 강습료 | K64: 예체능 | L64: 초·중·고생, 어린이 | M64: 주1회 | N64: 35000 | O64: =SUMIFS('조례와의 비교'!$F$3:$F$188,'조례와의 비교'!$B$3:$B$188,수서!J64,'조례와의 비교'!$C$3:$C$188,수서!K64,'조례와의 비교'!$D$3:$D$188,수서!L64,'조례와의 비교'!$E$3:$E$188,수서!M64) -> 35000 | P64: =IF(G64>N64,"O","X") -> X | Q64: 주1회 1시간
A65: 60 | B65: 교육문화사업 | C65: 우쿨렐레 | D65: 대학생, 성인 | E65: 주1회 | F65: 39000 | G65: 39000 | H65: =(G65-F65)/F65 -> 0 | J65: 2. 프로그램 영역별 강습료 | K65: 예체능 | L65: 대학생, 성인 | M65: 주1회 | N65: 39000 | O65: =SUMIFS('조례와의 비교'!$F$3:$F$188,'조례와의 비교'!$B$3:$B$188,수서!J65,'조례와의 비교'!$C$3:$C$188,수서!K65,'조례와의 비교'!$D$3:$D$188,수서!L65,'조례와의 비교'!$E$3:$E$188,수서!M65) -> 39000 | P65: =IF(G65>N65,"O","X") -> X | Q65: 주1회 1시간
A66: 61 | B66: 교육문화사업 | C66: 발성(성악,보컬노래,동요) | D66: 초·중·고생 | E66: 주1회 | F66: 40000 | G66: 40000 | H66: =(G66-F66)/F66 -> 0 | J66: 2. 프로그램 영역별 강습료 | K66: 예체능 | L66: 초·중·고생, 어린이 | M66: 주1회 | N66: 유사시설준용 | O66: =SUMIFS('조례와의 비교'!$F$3:$F$188,'조례와의 비교'!$B$3:$B$188,수서!J66,'조례와의 비교'!$C$3:$C$188,수서!K66,'조례와의 비교'!$D$3:$D$188,수서!L66,'조례와의 비교'!$E$3:$E$188,수서!M66) -> 35000 | P66: =IF(G66>N66,"O","X") -> X | Q66: 주1회 1시간 조례상한가에 소수정예로 상한가가 정해지지 않아 유사시설 준용/ 인근 목동점홈플러스 43,350원, 강남점롯데문화센터108,000원
A67: 62 | B67: 교육문화사업 | C67: 발성(성악,보컬노래,동요) | D67: 대학생, 성인 | E67: 주1회 | F67: 40000 | G67: 40000 | H67: =(G67-F67)/F67 -> 0 | J67: 2. 프로그램 영역별 강습료 | K67: 예체능 | L67: 대학생, 성인 | M67: 주1회 | N67: 유사시설준용 | O67: =SUMIFS('조례와의 비교'!$F$3:$F$188,'조례와의 비교'!$B$3:$B$188,수서!J67,'조례와의 비교'!$C$3:$C$188,수서!K67,'조례와의 비교'!$D$3:$D$188,수서!L67,'조례와의 비교'!$E$3:$E$188,수서!M67) -> 39000 | P67: =IF(G67>N67,"O","X") -> X | Q67: 주1회 1시간 조례상한가에 소수정예로 상한가가 정해지지 않아 유사시설 준용/ 인근 목동점홈플러스 43,350원, 강남점롯데문화센터108,000원
A68: 63 | B68: 교육문화사업 | C68: 발성(성악,보컬노래,동요) | D68: 대학생, 성인 | E68: 주1회 | F68: 30000 | G68: 30000 | H68: =(G68-F68)/F68 -> 0 | J68: 2. 프로그램 영역별 강습료 | K68: 예체능 | L68: 대학생, 성인 | M68: 주1회 | N68: 56000 | O68: =SUMIFS('조례와의 비교'!$F$3:$F$188,'조례와의 비교'!$B$3:$B$188,수서!J68,'조례와의 비교'!$C$3:$C$188,수서!K68,'조례와의 비교'!$D$3:$D$188,수서!L68,'조례와의 비교'!$E$3:$E$188,수서!M68) -> 39000 | P68: =IF(G68>N68,"O","X") -> X | Q68: 주1회 2시간
A69: 64 | B69: 교육문화사업 | C69: 제과제빵 | D69: 초·중·고생 | E69: 주1회 | F69: 40000 | G69: 40000 | H69: =(G69-F69)/F69 -> 0 | J69: 2. 프로그램 영역별 강습료 | K69: 취미·교양·문화 등 | L69: 초·중·고생, 어린이 | M69: 주1회 | N69: 44000 | O69: =SUMIFS('조례와의 비교'!$F$3:$F$188,'조례와의 비교'!$B$3:$B$188,수서!J69,'조례와의 비교'!$C$3:$C$188,수서!K69,'조례와의 비교'!$D$3:$D$188,수서!L69,'조례와의 비교'!$E$3:$E$188,수서!M69) -> 22000 | P69: =IF(G69>N69,"O","X") -> X | Q69: 주1회 2시간
A70: 65 | B70: 교육문화사업 | C70: 제과제빵 | D70: 대학생, 성인 | E70: 주1회 | F70: 40000 | G70: 40000 | H70: =(G70-F70)/F70 -> 0 | J70: 2. 프로그램 영역별 강습료 | K70: 취미·교양·문화 등 | L70: 대학생, 성인 | M70: 주1회 | N70: 56000 | O70: =SUMIFS('조례와의 비교'!$F$3:$F$188,'조례와의 비교'!$B$3:$B$188,수서!J70,'조례와의 비교'!$C$3:$C$188,수서!K70,'조례와의 비교'!$D$3:$D$188,수서!L70,'조례와의 비교'!$E$3:$E$188,수서!M70) -> 28000 | P70: =IF(G70>N70,"O","X") -> X | Q70: 주1회 2시간
A71: 66 | B71: 교육문화사업 | C71: 필라테스 | D71: 초·중·고생 | E71: 주3회 | F71: 61000 | G71: 61000 | H71: =(G71-F71)/F71 -> 0 | J71: 2. 프로그램 영역별 강습료 | K71: 예체능 | L71: 초·중·고생, 어린이 | M71: 주3회 | N71: 70000 | O71: =SUMIFS('조례와의 비교'!$F$3:$F$188,'조례와의 비교'!$B$3:$B$188,수서!J71,'조례와의 비교'!$C$3:$C$188,수서!K71,'조례와의 비교'!$D$3:$D$188,수서!L71,'조례와의 비교'!$E$3:$E$188,수서!M71) -> 70000 | P71: =IF(G71>N71,"O","X") -> X | Q71: 주3회 1시간
A72: 67 | B72: 교육문화사업 | C72: 필라테스 | D72: 대학생, 성인 | E72: 주3회 | F72: 61000 | G72: 61000 | H72: =(G72-F72)/F72 -> 0 | J72: 2. 프로그램 영역별 강습료 | K72: 예체능 | L72: 대학생, 성인 | M72: 주3회 | N72: 77000 | O72: =SUMIFS('조례와의 비교'!$F$3:$F$188,'조례와의 비교'!$B$3:$B$188,수서!J72,'조례와의 비교'!$C$3:$C$188,수서!K72,'조례와의 비교'!$D$3:$D$188,수서!L72,'조례와의 비교'!$E$3:$E$188,수서!M72) -> 77000 | P72: =IF(G72>N72,"O","X") -> X | Q72: 주3회 1시간
A73: 68 | B73: 교육문화사업 | C73: 필라테스 | D73: 초·중·고생 | E73: 주1회 | F73: 35000 | G73: 35000 | H73: =(G73-F73)/F73 -> 0 | J73: 2. 프로그램 영역별 강습료 | K73: 예체능 | L73: 초·중·고생, 어린이 | M73: 주1회 | N73: 35000 | O73: =SUMIFS('조례와의 비교'!$F$3:$F$188,'조례와의 비교'!$B$3:$B$188,수서!J73,'조례와의 비교'!$C$3:$C$188,수서!K73,'조례와의 비교'!$D$3:$D$188,수서!L73,'조례와의 비교'!$E$3:$E$188,수서!M73) -> 35000 | P73: =IF(G73>N73,"O","X") -> X | Q73: 주1회 1시간
A74: 69 | B74: 교육문화사업 | C74: 필라테스 | D74: 대학생, 성인 | E74: 주1회 | F74: 39000 | G74: 39000 | H74: =(G74-F74)/F74 -> 0 | J74: 2. 프로그램 영역별 강습료 | K74: 예체능 | L74: 대학생, 성인 | M74: 주1회 | N74: 39000 | O74: =SUMIFS('조례와의 비교'!$F$3:$F$188,'조례와의 비교'!$B$3:$B$188,수서!J74,'조례와의 비교'!$C$3:$C$188,수서!K74,'조례와의 비교'!$D$3:$D$188,수서!L74,'조례와의 비교'!$E$3:$E$188,수서!M74) -> 39000 | P74: =IF(G74>N74,"O","X") -> X | Q74: 주1회 1시간
A75: 70 | B75: 교육문화사업 | C75: 요가 | D75: 대학생, 성인 | E75: 주3회 | F75: 58000 | G75: 58000 | H75: =(G75-F75)/F75 -> 0 | J75: 2. 프로그램 영역별 강습료 | K75: 예체능 | L75: 대학생, 성인 | M75: 주3회 | N75: 77000 | O75: =SUMIFS('조례와의 비교'!$F$3:$F$188,'조례와의 비교'!$B$3:$B$188,수서!J75,'조례와의 비교'!$C$3:$C$188,수서!K75,'조례와의 비교'!$D$3:$D$188,수서!L75,'조례와의 비교'!$E$3:$E$188,수서!M75) -> 77000 | P75: =IF(G75>N75,"O","X") -> X | Q75: 주3회 1시간
A76: 71 | B76: 교육문화사업 | C76: 요가 | D76: 초·중·고생 | E76: 주3회 | F76: 58000 | G76: 58000 | H76: =(G76-F76)/F76 -> 0 | J76: 2. 프로그램 영역별 강습료 | K76: 예체능 | L76: 초·중·고생, 어린이 | M76: 주3회 | N76: 70000 | O76: =SUMIFS('조례와의 비교'!$F$3:$F$188,'조례와의 비교'!$B$3:$B$188,수서!J76,'조례와의 비교'!$C$3:$C$188,수서!K76,'조례와의 비교'!$D$3:$D$188,수서!L76,'조례와의 비교'!$E$3:$E$188,수서!M76) -> 70000 | P76: =IF(G76>N76,"O","X") -> X | Q76: 주3회 1시간
A77: 72 | B77: 교육문화사업 | C77: 요가 | D77: 초·중·고생 | E77: 주2회 | F77: 47000 | G77: 47000 | H77: =(G77-F77)/F77 -> 0 | J77: 2. 프로그램 영역별 강습료 | K77: 예체능 | L77: 초·중·고생, 어린이 | M77: 주2회 | N77: 55000 | O77: =SUMIFS('조례와의 비교'!$F$3:$F$188,'조례와의 비교'!$B$3:$B$188,수서!J77,'조례와의 비교'!$C$3:$C$188,수서!K77,'조례와의 비교'!$D$3:$D$188,수서!L77,'조례와의 비교'!$E$3:$E$188,수서!M77) -> 55000 | P77: =IF(G77>N77,"O","X") -> X | Q77: 주2회 1시간
A78: 73 | B78: 교육문화사업 | C78: 요가 | D78: 대학생, 성인 | E78: 주2회 | F78: 47000 | G78: 47000 | H78: =(G78-F78)/F78 -> 0 | J78: 2. 프로그램 영역별 강습료 | K78: 예체능 | L78: 대학생, 성인 | M78: 주2회 | N78: 61000 | O78: =SUMIFS('조례와의 비교'!$F$3:$F$188,'조례와의 비교'!$B$3:$B$188,수서!J78,'조례와의 비교'!$C$3:$C$188,수서!K78,'조례와의 비교'!$D$3:$D$188,수서!L78,'조례와의 비교'!$E$3:$E$188,수서!M78) -> 61000 | P78: =IF(G78>N78,"O","X") -> X | Q78: 주2회 1시간
A79: 74 | B79: 교육문화사업 | C79: 원데이특강 | D79: 초·중·고생 | E79: 1회 | F79: 10000 | G79: 10000 | H79: =(G79-F79)/F79 -> 0 | J79: 2. 프로그램 영역별 강습료 | K79: 기타 | L79: 초·중·고생, 어린이 | M79: n회 | N79: 유사시설준용 | O79: =SUMIFS('조례와의 비교'!$F$3:$F$188,'조례와의 비교'!$B$3:$B$188,수서!J79,'조례와의 비교'!$C$3:$C$188,수서!K79,'조례와의 비교'!$D$3:$D$188,수서!L79,'조례와의 비교'!$E$3:$E$188,수서!M79) -> 0 | P79: =IF(G79>N79,"O","X") -> X | Q79: 1회 2시간 조례상 일일특강 상한가를 두고 있지 않아 유사시설 준용 /인근 역삼청소년센터 10,000원 송파청소년센터 10,000원
A80: 75 | B80: 교육문화사업 | C80: 원데이특강 | D80: 대학생, 성인 | E80: 1회 | F80: 10000 | G80: 10000 | H80: =(G80-F80)/F80 -> 0 | J80: 2. 프로그램 영역별 강습료 | K80: 기타 | L80: 대학생, 성인 | M80: n회 | N80: 유사시설준용 | O80: =SUMIFS('조례와의 비교'!$F$3:$F$188,'조례와의 비교'!$B$3:$B$188,수서!J80,'조례와의 비교'!$C$3:$C$188,수서!K80,'조례와의 비교'!$D$3:$D$188,수서!L80,'조례와의 비교'!$E$3:$E$188,수서!M80) -> 0 | P80: =IF(G80>N80,"O","X") -> X | Q80: 1회 2시간 조례상 일일특강 상한가를 두고 있지 않아 유사시설 준용 /인근 역삼청소년센터 10,000원 송파청소년센터 10,000원
A81: 76 | B81: 교육문화사업 | C81: 농구교실 | D81: 초·중·고생 | E81: 주1회 | F81: 35000 | G81: 35000 | H81: =(G81-F81)/F81 -> 0 | J81: 2. 프로그램 영역별 강습료 | K81: 예체능 | L81: 초·중·고생, 어린이 | M81: 주1회 | N81: 35000 | O81: =SUMIFS('조례와의 비교'!$F$3:$F$188,'조례와의 비교'!$B$3:$B$188,수서!J81,'조례와의 비교'!$C$3:$C$188,수서!K81,'조례와의 비교'!$D$3:$D$188,수서!L81,'조례와의 비교'!$E$3:$E$188,수서!M81) -> 35000 | P81: =IF(G81>N81,"O","X") -> X | Q81: 주1회 1시간
A82: 77 | B82: 교육문화사업 | C82: 검도 | D82: 초·중·고생 | E82: 주5회 | F82: 71000 | G82: 71000 | H82: =(G82-F82)/F82 -> 0 | J82: 2. 프로그램 영역별 강습료 | K82: 예체능 | L82: 초·중·고생, 어린이 | M82: 주5회 | N82: 96500 | O82: =SUMIFS('조례와의 비교'!$F$3:$F$188,'조례와의 비교'!$B$3:$B$188,수서!J82,'조례와의 비교'!$C$3:$C$188,수서!K82,'조례와의 비교'!$D$3:$D$188,수서!L82,'조례와의 비교'!$E$3:$E$188,수서!M82) -> 96500 | P82: =IF(G82>N82,"O","X") -> X | Q82: 주5회1시간
A83: 78 | B83: 교육문화사업 | C83: 검도 | D83: 대학생, 성인 | E83: 주5회 | F83: 88000 | G83: 88000 | H83: =(G83-F83)/F83 -> 0 | J83: 2. 프로그램 영역별 강습료 | K83: 예체능 | L83: 대학생, 성인 | M83: 주5회 | N83: 106000 | O83: =SUMIFS('조례와의 비교'!$F$3:$F$188,'조례와의 비교'!$B$3:$B$188,수서!J83,'조례와의 비교'!$C$3:$C$188,수서!K83,'조례와의 비교'!$D$3:$D$188,수서!L83,'조례와의 비교'!$E$3:$E$188,수서!M83) -> 106000 | P83: =IF(G83>N83,"O","X") -> X | Q83: 주5회1시간
A84: 79 | B84: 교육문화사업 | C84: 배드민턴 | D84: 초·중·고생 | E84: 주1회 | F84: 35000 | G84: 35000 | H84: =(G84-F84)/F84 -> 0 | J84: 2. 프로그램 영역별 강습료 | K84: 예체능 | L84: 초·중·고생, 어린이 | M84: 주1회 | N84: 35000 | O84: =SUMIFS('조례와의 비교'!$F$3:$F$188,'조례와의 비교'!$B$3:$B$188,수서!J84,'조례와의 비교'!$C$3:$C$188,수서!K84,'조례와의 비교'!$D$3:$D$188,수서!L84,'조례와의 비교'!$E$3:$E$188,수서!M84) -> 35000 | P84: =IF(G84>N84,"O","X") -> X | Q84: 주1회1시간
A85: 80 | B85: 교육문화사업 | C85: 배드민턴 | D85: 초·중·고생 | E85: 주2회 | F85: 45000 | G85: 45000 | H85: =(G85-F85)/F85 -> 0 | J85: 2. 프로그램 영역별 강습료 | K85: 예체능 | L85: 초·중·고생, 어린이 | M85: 주2회 | N85: 55000 | O85: =SUMIFS('조례와의 비교'!$F$3:$F$188,'조례와의 비교'!$B$3:$B$188,수서!J85,'조례와의 비교'!$C$3:$C$188,수서!K85,'조례와의 비교'!$D$3:$D$188,수서!L85,'조례와의 비교'!$E$3:$E$188,수서!M85) -> 55000 | P85: =IF(G85>N85,"O","X") -> X | Q85: 주2회 1시간
A86: 81 | B86: 교육문화사업 | C86: 배드민턴 | D86: 대학생, 성인 | E86: 주5회 | F86: 44000 | G86: 44000 | H86: =(G86-F86)/F86 -> 0 | J86: 2. 프로그램 영역별 강습료 | K86: 예체능 | L86: 대학생, 성인 | M86: 주5회 | N86: 118000 | O86: =SUMIFS('조례와의 비교'!$F$3:$F$188,'조례와의 비교'!$B$3:$B$188,수서!J86,'조례와의 비교'!$C$3:$C$188,수서!K86,'조례와의 비교'!$D$3:$D$188,수서!L86,'조례와의 비교'!$E$3:$E$188,수서!M86) -> 106000 | P86: =IF(G86>N86,"O","X") -> X | Q86: 주5회 1시간
A87: 82 | B87: 교육문화사업 | C87: 뉴스포츠 | D87: 초·중·고생 | E87: 주1회 | F87: 35000 | G87: 35000 | H87: =(G87-F87)/F87 -> 0 | J87: 2. 프로그램 영역별 강습료 | K87: 예체능 | L87: 초·중·고생, 어린이 | M87: 주1회 | N87: 35000 | O87: =SUMIFS('조례와의 비교'!$F$3:$F$188,'조례와의 비교'!$B$3:$B$188,수서!J87,'조례와의 비교'!$C$3:$C$188,수서!K87,'조례와의 비교'!$D$3:$D$188,수서!L87,'조례와의 비교'!$E$3:$E$188,수서!M87) -> 35000 | P87: =IF(G87>N87,"O","X") -> X | Q87: 주1회 1시간
A88: 83 | B88: 교육문화사업 | C88: 실용댄스 | D88: 초·중·고생 | E88: 주1회 | F88: 35000 | G88: 35000 | H88: =(G88-F88)/F88 -> 0 | J88: 2. 프로그램 영역별 강습료 | K88: 예체능 | L88: 초·중·고생, 어린이 | M88: 주1회 | N88: 35000 | O88: =SUMIFS('조례와의 비교'!$F$3:$F$188,'조례와의 비교'!$B$3:$B$188,수서!J88,'조례와의 비교'!$C$3:$C$188,수서!K88,'조례와의 비교'!$D$3:$D$188,수서!L88,'조례와의 비교'!$E$3:$E$188,수서!M88) -> 35000 | P88: =IF(G88>N88,"O","X") -> X | Q88: 주1회 1시간
A89: 84 | B89: 교육문화사업 | C89: 실용댄스 | D89: 대학생, 성인 | E89: 주2회 | F89: 61000 | G89: 61000 | H89: =(G89-F89)/F89 -> 0 | J89: 2. 프로그램 영역별 강습료 | K89: 예체능 | L89: 대학생, 성인 | M89: 주2회 | N89: 61000 | O89: =SUMIFS('조례와의 비교'!$F$3:$F$188,'조례와의 비교'!$B$3:$B$188,수서!J89,'조례와의 비교'!$C$3:$C$188,수서!K89,'조례와의 비교'!$D$3:$D$188,수서!L89,'조례와의 비교'!$E$3:$E$188,수서!M89) -> 61000 | P89: =IF(G89>N89,"O","X") -> X | Q89: 주2회 1시간
A90: 85 | B90: 교육문화사업 | C90: 발레 | D90: 초·중·고생, 어린이 | E90: 주1회 | F90: 35000 | G90: 35000 | H90: =(G90-F90)/F90 -> 0 | J90: 2. 프로그램 영역별 강습료 | K90: 예체능 | L90: 초·중·고생, 어린이 | M90: 주1회 | N90: 35000 | O90: =SUMIFS('조례와의 비교'!$F$3:$F$188,'조례와의 비교'!$B$3:$B$188,수서!J90,'조례와의 비교'!$C$3:$C$188,수서!K90,'조례와의 비교'!$D$3:$D$188,수서!L90,'조례와의 비교'!$E$3:$E$188,수서!M90) -> 35000 | P90: =IF(G90>N90,"O","X") -> X | Q90: 주1회 1시간
A91: 86 | B91: 교육문화사업 | C91: 발레 | D91: 대학생, 성인 | E91: 주1회 | F91: 39000 | G91: 39000 | H91: =(G91-F91)/F91 -> 0 | J91: 2. 프로그램 영역별 강습료 | K91: 예체능 | L91: 대학생, 성인 | M91: 주1회 | N91: 39000 | O91: =SUMIFS('조례와의 비교'!$F$3:$F$188,'조례와의 비교'!$B$3:$B$188,수서!J91,'조례와의 비교'!$C$3:$C$188,수서!K91,'조례와의 비교'!$D$3:$D$188,수서!L91,'조례와의 비교'!$E$3:$E$188,수서!M91) -> 39000 | P91: =IF(G91>N91,"O","X") -> X | Q91: 주1회 1시간
A92: 87 | B92: 교육문화사업 | C92: 음악줄넘기 | D92: 초·중·고생 | E92: 주1회 | F92: 35000 | G92: 35000 | H92: =(G92-F92)/F92 -> 0 | J92: 2. 프로그램 영역별 강습료 | K92: 예체능 | L92: 초·중·고생, 어린이 | M92: 주1회 | N92: 35000 | O92: =SUMIFS('조례와의 비교'!$F$3:$F$188,'조례와의 비교'!$B$3:$B$188,수서!J92,'조례와의 비교'!$C$3:$C$188,수서!K92,'조례와의 비교'!$D$3:$D$188,수서!L92,'조례와의 비교'!$E$3:$E$188,수서!M92) -> 35000 | P92: =IF(G92>N92,"O","X") -> X | Q92: 주1회 1시간
... A105: 100 | B105: 교육문화사업 | C105: 과학 | D105: 초·중·고생 | E105: 주1회 | F105: 35000 | G105: 35000 | H105: =(G105-F105)/F105 -> 0 | J105: 2. 프로그램 영역별 강습료 | K105: 예체능 | L105: 초·중·고생, 어린이 | M105: 주1회 | N105: 35000 | O105: =SUMIFS('조례와의 비교'!$F$3:$F$188,'조례와의 비교'!$B$3:$B$188,수서!J105,'조례와의 비교'!$C$3:$C$188,수서!K105,'조례와의 비교'!$D$3:$D$188,수서!L105,'조례와의 비교'!$E$3:$E$188,수서!M105) -> 35000 | P105: =IF(G105>N105,"O","X") -> X | Q105: 주1회 1시간
A106: 101 | B106: 교육문화사업 | C106: 과학(심화) | D106: 초·중·고생 | E106: 주1회 | F106: 40000 | G106: 40000 | H106: =(G106-F106)/F106 -> 0 | J106: 2. 프로그램 영역별 강습료 | K106: 예체능 | L106: 초·중·고생, 어린이 | M106: 주1회 | N106: 유사시설준용 | O106: =SUMIFS('조례와의 비교'!$F$3:$F$188,'조례와의 비교'!$B$3:$B$188,수서!J106,'조례와의 비교'!$C$3:$C$188,수서!K106,'조례와의 비교'!$D$3:$D$188,수서!L106,'조례와의 비교'!$E$3:$E$188,수서!M106) -> 35000 | P106: =IF(G106>N106,"O","X") -> X | Q106: 조례상 난위도에 따른 상한가를 규정하고 있지 않아 유사시설 준용 /인근 태화기독교사회복지관 40,000원 광진청소년센터 40,000원
A107: 102 | B107: 교육문화사업 | C107: 평생교육실습 | D107: 대학생, 성인 | E107: 주5회 | F107: 100000 | G107: 100000 | H107: =(G107-F107)/F107 -> 0 | J107: 2. 프로그램 영역별 강습료 | K107: 예체능 | L107: 대학생, 성인 | M107: n회 | N107: 유사시설준용 | O107: =SUMIFS('조례와의 비교'!$F$3:$F$188,'조례와의 비교'!$B$3:$B$188,수서!J107,'조례와의 비교'!$C$3:$C$188,수서!K107,'조례와의 비교'!$D$3:$D$188,수서!L107,'조례와의 비교'!$E$3:$E$188,수서!M107) -> 0 | P107: =IF(G107>N107,"O","X") -> X | Q107: 주5회 인근 태화사회복지관 100,000원, 창동청소년넨터100,000원,
A108: 103 | B108: 생활체육사업 | C108: 청소년수영 | D108: 초·중·고생 | E108: 주3회 | F108: 41000 | G108: 0 | H108: =(G108-F108)/F108 -> -1 | I108: 프로그램 폐지 | J108: 2. 프로그램 영역별 강습료 | K108: 체육시설 이용수업 | L108: 초·중·고생, 어린이 | M108: 주3회 | N108: 50000 | O108: =SUMIFS('조례와의 비교'!$F$3:$F$188,'조례와의 비교'!$B$3:$B$188,수서!J108,'조례와의 비교'!$C$3:$C$188,수서!K108,'조례와의 비교'!$D$3:$D$188,수서!L108,'조례와의 비교'!$E$3:$E$188,수서!M108) -> 50000 | P108: =IF(G108>N108,"O","X") -> X | Q108: 주2회 강습+주1회 자유
A109: 104 | B109: 생활체육사업 | C109: 청소년수영 | D109: 초·중·고생 | E109: 주3회 | F109: 43000 | G109: 43000 | H109: =(G109-F109)/F109 -> 0 | J109: 2. 프로그램 영역별 강습료 | K109: 체육시설 이용수업 | L109: 초·중·고생, 어린이 | M109: 주3회 | N109: 50000 | O109: =SUMIFS('조례와의 비교'!$F$3:$F$188,'조례와의 비교'!$B$3:$B$188,수서!J109,'조례와의 비교'!$C$3:$C$188,수서!K109,'조례와의 비교'!$D$3:$D$188,수서!L109,'조례와의 비교'!$E$3:$E$188,수서!M109) -> 50000 | P109: =IF(G109>N109,"O","X") -> X | Q109: 주2회 강습+주1회 자유
A110: 105 | B110: 생활체육사업 | C110: 청소년수영 | D110: 초·중·고생 | E110: 주4회 | F110: 47000 | G110: 0 | H110: =(G110-F110)/F110 -> -1 | I110: 프로그램 폐지 | J110: 2. 프로그램 영역별 강습료 | K110: 체육시설 이용수업 | L110: 초·중·고생, 어린이 | M110: 주4회 | N110: 62000 | O110: =SUMIFS('조례와의 비교'!$F$3:$F$188,'조례와의 비교'!$B$3:$B$188,수서!J110,'조례와의 비교'!$C$3:$C$188,수서!K110,'조례와의 비교'!$D$3:$D$188,수서!L110,'조례와의 비교'!$E$3:$E$188,수서!M110) -> 62000 | P110: =IF(G110>N110,"O","X") -> X | Q110: 주3회 강습+주1회 자유
A111: 106 | B111: 생활체육사업 | C111: 청소년수영 | D111: 초·중·고생 | E111: 주4회 | F111: 50000 | G111: 50000 | H111: =(G111-F111)/F111 -> 0 | J111: 2. 프로그램 영역별 강습료 | K111: 체육시설 이용수업 | L111: 초·중·고생, 어린이 | M111: 주4회 | N111: 62000 | O111: =SUMIFS('조례와의 비교'!$F$3:$F$188,'조례와의 비교'!$B$3:$B$188,수서!J111,'조례와의 비교'!$C$3:$C$188,수서!K111,'조례와의 비교'!$D$3:$D$188,수서!L111,'조례와의 비교'!$E$3:$E$188,수서!M111) -> 62000 | P111: =IF(G111>N111,"O","X") -> X | Q111: 주3회 강습+주1회 자유
A112: 107 | B112: 생활체육사업 | C112: 청소년수영 | D112: 초·중·고생 | E112: 주6회 | F112: 65000 | G112: 0 | H112: =(G112-F112)/F112 -> -1 | I112: 프로그램 폐지 | J112: 2. 프로그램 영역별 강습료 | K112: 체육시설 이용수업 | L112: 초·중·고생, 어린이 | M112: 주6회 | N112: 80000 | O112: =SUMIFS('조례와의 비교'!$F$3:$F$188,'조례와의 비교'!$B$3:$B$188,수서!J112,'조례와의 비교'!$C$3:$C$188,수서!K112,'조례와의 비교'!$D$3:$D$188,수서!L112,'조례와의 비교'!$E$3:$E$188,수서!M112) -> 80000 | P112: =IF(G112>N112,"O","X") -> X | Q112: 주5회 강습+주1회 자유
A113: 108 | B113: 생활체육사업 | C113: 청소년수영 | D113: 초·중·고생 | E113: 주6회 | F113: 70000 | G113: 0 | H113: =(G113-F113)/F113 -> -1 | I113: 프로그램 폐지 | J113: 2. 프로그램 영역별 강습료 | K113: 체육시설 이용수업 | L113: 초·중·고생, 어린이 | M113: 주6회 | N113: 80000 | O113: =SUMIFS('조례와의 비교'!$F$3:$F$188,'조례와의 비교'!$B$3:$B$188,수서!J113,'조례와의 비교'!$C$3:$C$188,수서!K113,'조례와의 비교'!$D$3:$D$188,수서!L113,'조례와의 비교'!$E$3:$E$188,수서!M113) -> 80000 | P113: =IF(G113>N113,"O","X") -> X | Q113: 주5회 강습+주1회 자유
A114: 109 | B114: 생활체육사업 | C114: 학교수영 | D114: 초·중·고생 | E114: 주2회 | F114: 30000 | G114: 30000 | H114: =(G114-F114)/F114 -> 0 | J114: 2. 프로그램 영역별 강습료 | K114: 체육시설 이용수업 | L114: 초·중·고생, 어린이 | M114: 주2회 | N114: 37000 | O114: =SUMIFS('조례와의 비교'!$F$3:$F$188,'조례와의 비교'!$B$3:$B$188,수서!J114,'조례와의 비교'!$C$3:$C$188,수서!K114,'조례와의 비교'!$D$3:$D$188,수서!L114,'조례와의 비교'!$E$3:$E$188,수서!M114) -> 37000 | P114: =IF(G114>N114,"O","X") -> X
...

Sheet 조례와의 비교
B2: 조례영역 | C2: 조례구분 | D2: 조례대상 | E2: 조례횟수 | F2: 조례상한가(원) | G2: 비고
B3: 1. 시설사용료 | C3: 체육관 | D3: 대학생, 성인 | E3: 1회 | F3: 2500
B4: 1. 시설사용료 | C4: 체육관 | D4: 대학생, 성인 | E4: 주1회 | F4: 8800
B5: 1. 시설사용료 | C5: 체육관 | D5: 대학생, 성인 | E5: 주2회 | F5: 17600
B6: 1. 시설사용료 | C6: 체육관 | D6: 대학생, 성인 | E6: 주3회 | F6: 26400
B7: 1. 시설사용료 | C7: 체육관 | D7: 대학생, 성인 | E7: 주4회 | F7: 35200
B8: 1. 시설사용료 | C8: 체육관 | D8: 대학생, 성인 | E8: 주5회 | F8: 44000
B9: 1. 시설사용료 | C9: 체육관 | D9: 대학생, 성인 | E9: 주6회 | F9: 52800
B10: 1. 시설사용료 | C10: 체육관 | D10: 초·중·고생 | E10: 1회 | F10: 1800
B11: 1. 시설사용료 | C11: 체육관 | D11: 초·중·고생 | E11: 주1회 | F11: 6400
B12: 1. 시설사용료 | C12: 체육관 | D12: 초·중·고생 | E12: 주2회 | F12: 12800
B13: 1. 시설사용료 | C13: 체육관 | D13: 초·중·고생 | E13: 주3회 | F13: 19200
B14: 1. 시설사용료 | C14: 체육관 | D14: 초·중·고생 | E14: 주4회 | F14: 25600
... B23: 1. 시설사용료 | C23: 체육관 | D23: 어린이 | E23: 주6회 | F23: 31200
B24: 1. 시설사용료 | C24: 체육관 | D24: 기타 | E24: n회 | F24: 유사시설준용 | G24: 그밖에 요금을 정하지 아니한 사용료
B25: 1. 시설사용료 | C25: 수영장 | D25: 대학생, 성인 | E25: 1회 | F25: 4300
B26: 1. 시설사용료 | C26: 수영장 | D26: 대학생, 성인 | E26: 주1회 | F26: 17500
B27: 1. 시설사용료 | C27: 수영장 | D27: 대학생, 성인 | E27: 주2회 | F27: 35000
B28: 1. 시설사용료 | C28: 수영장 | D28: 대학생, 성인 | E28: 주3회 | F28: 52500
B29: 1. 시설사용료 | C29: 수영장 | D29: 대학생, 성인 | E29: 주4회 | F29: 70000
B30: 1. 시설사용료 | C30: 수영장 | D30: 대학생, 성인 | E30: 주5회 | F30: 87500
B31: 1. 시설사용료 | C31: 수영장 | D31: 대학생, 성인 | E31: 주6회 | F31: 105000
B32: 1. 시설사용료 | C32: 수영장 | D32: 초·중·고생 | E32: 1회 | F32: 2500
B33: 1. 시설사용료 | C33: 수영장 | D33: 초·중·고생 | E33: 주1회 | F33: 10000
B34: 1. 시설사용료 | C34: 수영장 | D34: 초·중·고생 | E34: 주2회 | F34: 20000
B35: 1. 시설사용료 | C35: 수영장 | D35: 초·중·고생 | E35: 주3회 | F35: 30000
B36: 1. 시설사용료 | C36: 수영장 | D36: 초·중·고생 | E36: 주4회 | F36: 40000
... B45: 1. 시설사용료 | C45: 수영장 | D45: 어린이 | E45: 주6회 | F45: 45000
B46: 1. 시설사용료 | C46: 수영장 | D46: 미정 | E46: n회 | F46: 유사시설준용 | G46: 그밖에 요금을 정하지 아니한 사용료
B47: 1. 시설사용료 | C47: 헬스장 | D47: 대학생, 성인 | E47: 1회 | F47: 3000
B48: 1. 시설사용료 | C48: 헬스장 | D48: 대학생, 성인 | E48: 주1회 | F48: 12500
B49: 1. 시설사용료 | C49: 헬스장 | D49: 대학생, 성인 | E49: 주2회 | F49: 25000
B50: 1. 시설사용료 | C50: 헬스장 | D50: 대학생, 성인 | E50: 주3회 | F50: 37500
B51: 1. 시설사용료 | C51: 헬스장 | D51: 대학생, 성인 | E51: 주4회 | F51: 50000
B52: 1. 시설사용료 | C52: 헬스장 | D52: 대학생, 성인 | E52: 주5회 | F52: 62500
B53: 1. 시설사용료 | C53: 헬스장 | D53: 대학생, 성인 | E53: 주6회 | F53: 75000
B54: 1. 시설사용료 | C54: 헬스장 | D54: 고등이하 | E54: 1회 | F54: 2000
B55: 1. 시설사용료 | C55: 헬스장 | D55: 고등이하 | E55: 주1회 | F55: 8500
B56: 1. 시설사용료 | C56: 헬스장 | D56: 고등이하 | E56: 주2회 | F56: 17000
B57: 1. 시설사용료 | C57: 헬스장 | D57: 고등이하 | E57: 주3회 | F57: 25500
B58: 1. 시설사용료 | C58: 헬스장 | D58: 고등이하 | E58: 주4회 | F58: 34000
... B60: 1. 시설사용료 | C60: 헬스장 | D60: 고등이하 | E60: 주6회 | F60: 51000
B61: 1. 시설사용료 | C61: 헬스장 | D61: 미정 | E61: n회 | F61: 유사시설준용 | G61: 그밖에 요금을 정하지 아니한 사용료
B62: 1. 시설사용료 | C62: 시설대관 | D62: 강당, 공연장 등(200석 이내) | E62: 1회 | F62: 250000
B63: 1. 시설사용료 | C63: 시설대관 | D63: 강당, 공연장 등(200석 이내) | E63: n회 | F63: 기본 3시간, 초과 시 시간당 25,000원
B64: 1. 시설사용료 | C64: 시설대관 | D64: 강당, 공연장 등(300석 이내) | E64: 1회 | F64: 350000
B65: 1. 시설사용료 | C65: 시설대관 | D65: 강당, 공연장 등(300석 이내) | E65: n회 | F65: 기본 3시간, 초과 시 시간당 30,000원
B66: 1. 시설사용료 | C66: 시설대관 | D66: 강당, 공연장 등(400석 이내) | E66: 1회 | F66: 450000
B67: 1. 시설사용료 | C67: 시설대관 | D67: 강당, 공연장 등(400석 이내) | E67: n회 | F67: 기본 3시간, 초과 시 시간당 35,000원
B68: 1. 시설사용료 | C68: 시설대관 | D68: 공연연습실 프로그램실 | E68: n회 | F68: 기본 3시간, 초과 시 시간당 10,000원 or 유사시설준용
B69: 1. 시설사용료 | C69: 시설대관 | D69: 부대시설 | E69: n회 | F69: 유사시설준용 | G69: 탁구장, 골프장, 풋살장, 스쿼시장, 사물함, 식당 등
B70: 1. 시설사용료 | C70: 기타 | D70: 기타 | E70: n회 | F70: 유사시설준용 | G70: 그밖에 요금을 정하지 아니한 사용료
B71: 2. 프로그램 영역별 강습료 | C71: 체육시설 이용수업 | D71: 대학생, 성인 | E71: 주1회 | F71: 31000
B72: 2. 프로그램 영역별 강습료 | C72: 체육시설 이용수업 | D72: 대학생, 성인 | E72: 주2회 | F72: 43000
B73: 2. 프로그램 영역별 강습료 | C73: 체육시설 이용수업 | D73: 대학생, 성인 | E73: 주3회 | F73: 56000
B74: 2. 프로그램 영역별 강습료 | C74: 체육시설 이용수업 | D74: 대학생, 성인 | E74: 주4회 | F74: 68000
B75: 2. 프로그램 영역별 강습료 | C75: 체육시설 이용수업 | D75: 대학생, 성인 | E75: 주5회 | F75: 81000
B76: 2. 프로그램 영역별 강습료 | C76: 체육시설 이용수업 | D76: 대학생, 성인 | E76: 주6회 | F76: 93000
B77: 2. 프로그램 영역별 강습료 | C77: 체육시설 이용수업 | D77: 초·중·고생, 어린이 | E77: 주1회 | F77: 25000
B78: 2. 프로그램 영역별 강습료 | C78: 체육시설 이용수업 | D78: 초·중·고생, 어린이 | E78: 주2회 | F78: 37000
B79: 2. 프로그램 영역별 강습료 | C79: 체육시설 이용수업 | D79: 초·중·고생, 어린이 | E79: 주3회 | F79: 50000
B80: 2. 프로그램 영역별 강습료 | C80: 체육시설 이용수업 | D80: 초·중·고생, 어린이 | E80: 주4회 | F80: 62000
B81: 2. 프로그램 영역별 강습료 | C81: 체육시설 이용수업 | D81: 초·중·고생, 어린이 | E81: 주5회 | F81: 72000
B82: 2. 프로그램 영역별 강습료 | C82: 체육시설 이용수업 | D82: 초·중·고생, 어린이 | E82: 주6회 | F82: 80000
B83: 2. 프로그램 영역별 강습료 | C83: 체육시설 이용수업 | D83: 기타 | E83: n회 | F83: 유사시설준용 | G83: 그밖에 요금을 정하지 아니한 사용료
B84: 2. 프로그램 영역별 강습료 | C84: 외국어 | D84: 대학생, 성인 | E84: 주1회 | F84: 39000
B85: 2. 프로그램 영역별 강습료 | C85: 외국어 | D85: 대학생, 성인 | E85: 주2회 | F85: 56000
B86: 2. 프로그램 영역별 강습료 | C86: 외국어 | D86: 대학생, 성인 | E86: 주3회 | F86: 73000
B87: 2. 프로그램 영역별 강습료 | C87: 외국어 | D87: 대학생, 성인 | E87: 주4회 | F87: 92000
B88: 2. 프로그램 영역별 강습료 | C88: 외국어 | D88: 대학생, 성인 | E88: 주5회 | F88: 108000
B89: 2. 프로그램 영역별 강습료 | C89: 외국어 | D89: 대학생, 성인 | E89: 주6회 | F89: 120000
B90: 2. 프로그램 영역별 강습료 | C90: 외국어 | D90: 초·중·고생, 어린이 | E90: 주1회 | F90: 33000
B91: 2. 프로그램 영역별 강습료 | C91: 외국어 | D91: 초·중·고생, 어린이 | E91: 주2회 | F91: 45000
B92: 2. 프로그램 영역별 강습료 | C92: 외국어 | D92: 초·중·고생, 어린이 | E92: 주3회 | F92: 56000
B93: 2. 프로그램 영역별 강습료 | C93: 외국어 | D93: 초·중·고생, 어린이 | E93: 주4회 | F93: 67000
B94: 2. 프로그램 영역별 강습료 | C94: 외국어 | D94: 초·중·고생, 어린이 | E94: 주5회 | F94: 78000
B95: 2. 프로그램 영역별 강습료 | C95: 외국어 | D95: 초·중·고생, 어린이 | E95: 주6회 | F95: 90000
B96: 2. 프로그램 영역별 강습료 | C96: 외국어 | D96: 기타 | E96: n회 | F96: 유사시설준용 | G96: 그밖에 요금을 정하지 아니한 사용료
B97: 2. 프로그램 영역별 강습료 | C97: 예체능 | D97: 대학생, 성인 | E97: 주1회 | F97: 39000
B98: 2. 프로그램 영역별 강습료 | C98: 예체능 | D98: 대학생, 성인 | E98: 주2회 | F98: 61000
B99: 2. 프로그램 영역별 강습료 | C99: 예체능 | D99: 대학생, 성인 | E99: 주3회 | F99: 77000
B100: 2. 프로그램 영역별 강습료 | C100: 예체능 | D100: 대학생, 성인 | E100: 주4회 | F100: 91000
B101: 2. 프로그램 영역별 강습료 | C101: 예체능 | D101: 대학생, 성인 | E101: 주5회 | F101: 106000
B102: 2. 프로그램 영역별 강습료 | C102: 예체능 | D102: 대학생, 성인 | E102: 주6회 | F102: 118000
B103: 2. 프로그램 영역별 강습료 | C103: 예체능 | D103: 초·중·고생, 어린이 | E103: 주1회 | F103: 35000
B104: 2. 프로그램 영역별 강습료 | C104: 예체능 | D104: 초·중·고생, 어린이 | E104: 주2회 | F104: 55000
B105: 2. 프로그램 영역별 강습료 | C105: 예체능 | D105: 초·중·고생, 어린이 | E105: 주3회 | F105: 70000
B106: 2. 프로그램 영역별 강습료 | C106: 예체능 | D106: 초·중·고생, 어린이 | E106: 주4회 | F106: 82500
B107: 2. 프로그램 영역별 강습료 | C107: 예체능 | D107: 초·중·고생, 어린이 | E107: 주5회 | F107: 96500
B108: 2. 프로그램 영역별 강습료 | C108: 예체능 | D108: 초·중·고생, 어린이 | E108: 주6회 | F108: 107000
B109: 2. 프로그램 영역별 강습료 | C109: 예체능 | D109: 그룹활동(유아반 등) | E109: n회 | F109: 유사시설준용
B110: 2. 프로그램 영역별 강습료 | C110: 예체능 | D110: 기타 | E110: n회 | F110: 유사시설준용 | G110: 그밖에 요금을 정하지 아니한 사용료
B111: 2. 프로그램 영역별 강습료 | C111: 취미·교양·문화 등 | D111: 대학생, 성인 | E111: 주1회 | F111: 28000
B112: 2. 프로그램 영역별 강습료 | C112: 취미·교양·문화 등 | D112: 대학생, 성인 | E112: 주2회 | F112: 39000
B113: 2. 프로그램 영역별 강습료 | C113: 취미·교양·문화 등 | D113: 대학생, 성인 | E113: 주3회 | F113: 50000
B114: 2. 프로그램 영역별 강습료 | C114: 취미·교양·문화 등 | D114: 대학생, 성인 | E114: 주4회 | F114: 64000
B115: 2. 프로그램 영역별 강습료 | C115: 취미·교양·문화 등 | D115: 대학생, 성인 | E115: 주5회 | F115: 75000
B116: 2. 프로그램 영역별 강습료 | C116: 취미·교양·문화 등 | D116: 대학생, 성인 | E116: 주6회 | F116: 84000
B117: 2. 프로그램 영역별 강습료 | C117: 취미·교양·문화 등 | D117: 초·중·고생, 어린이 | E117: 주1회 | F117: 22000
B118: 2. 프로그램 영역별 강습료 | C118: 취미·교양·문화 등 | D118: 초·중·고생, 어린이 | E118: 주2회 | F118: 33000
...
